Workbook

Sheet DATA
A1: UNIQUE_ID | B1: ID | C1: OVWID | D1: PROGRAM | E1: FORM | F1: PERIOD | G1: DATE_OF_REPORT | H1: CURRENT_REPORT_YEAR | I1: SUBGRANTEE_NAME | J1: SUBGRANT_NUM_1 | K1: SUBGRANT_NUM_2 | L1: SUBGRANT_NUM_3 | M1: SUBGRANT_NUM_4 | N1: SUBGRANT_NUM_5 | O1: SUBGRANT_NUM_6 | P1: TYPE_OF_ORGANIZATION | Q1: TYPE_FUNDED_ORGANIZATION_OTHER_DESC | R1: IS_FBO | S1: IS_STATE_TERRITORY | T1: POC_FIRST_NAME | U1: POC_MIDDLE_INITIAL | V1: POC_LAST_NAME | W1: POC_ORGANIZATION | X1: POC_ADDRESS | Y1: POC_CITY | Z1: POC_STATE | AA1: POC_ZIP_CODE | AB1: POC_TELEPHONE | AC1: POC_FACSIMILE | AD1: POC_EMAIL | AE1: ADDRESSES_TRIBAL_NATIONS | AF1: IDENTIFY_TRIBAL_NATIONS | AG1: SECONDARY_SERVED | AH1: NARR2_RAN_1 | AI1: NARR2_RAN_2 | AJ1: NARR3_FUNDALLOW_1 | AK1: NARR3_FUNDALLOW_2 | AL1: NARR4_EFFECTIVENESS_1 | AM1: NARR4_EFFECTIVENESS_2 | AN1: NARR5_DATA_1 | AO1: NARR5_DATA_2 | AP1: VS_NARRATIVE | AQ1: STAT_PURP_HOTLINE | AR1: STAT_PURP_ACCOMP | AS1: STAT_PURP_CRISIS_INTERV | AT1: STAT_PURP_INFORM_REFERAL | AU1: STAT_PURP_COMM_BASED | AV1: STAT_PURP_DEV_DIST | AW1: funds_products | AX1: PROD_FUNDSUSED_1and0 | AY1: PROD_NUM_DEV_BROCHURES_1 | AZ1: PROD_TITLE_BROCHURES_1 | BA1: PROD_AUD_BROCHURES_1 | BB1: PROD_NUM_USED_BROCHURES_1 | BC1: PROD_LANGS_BROCHURES_1 | BD1: PROD_NUM_DEV_BROCHURES_2 | BE1: PROD_TITLE_BROCHURES_2 | BF1: PROD_AUD_BROCHURES_2 | BG1: PROD_NUM_USED_BROCHURES_2 | BH1: PROD_LANGS_BROCHURES_2 | BI1: PROD_NUM_DEV_BROCHURES_3 | BJ1: PROD_TITLE_BROCHURES_3 | BK1: PROD_AUD_BROCHURES_3 | BL1: PROD_NUM_USED_BROCHURES_3 | BM1: PROD_LANGS_BROCHURES_3 | BN1: PROD_NUM_DEV_PROMO_PROD_1 | BO1: PROD_TITLE_PROMO_PROD_1 | BP1: PROD_AUD_PROMO_PROD_1 | BQ1: PROD_NUM_USED_PROMO_PROD_1 | BR1: PROD_LANGS_PROMO_PROD_1 | BS1: PROD_NUM_DEV_PROMO_PROD_2 | BT1: PROD_TITLE_PROMO_PROD_2 | BU1: PROD_AUD_PROMO_PROD_2 | BV1: PROD_NUM_USED_PROMO_PROD_2 | BW1: PROD_LANGS_PROMO_PROD_2 | BX1: PROD_NUM_DEV_PROMO_PROD_3 | BY1: PROD_TITLE_PROMO_PROD_3 | BZ1: PROD_AUD_PROMO_PROD_3 | CA1: PROD_NUM_USED_PROMO_PROD_3 | CB1: PROD_LANGS_PROMO_PROD_3 | CC1: PROD_NUM_DEV_WEBSITE_1 | CD1: PROD_TITLE_WEBSITE_1 | CE1: PROD_AUD_WEBSITE_1 | CF1: PROD_NUM_USED_WEBSITE_1 | CG1: PROD_LANGS_WEBSITE_1 | CH1: PROD_NUM_DEV_WEBSITE_2 | CI1: PROD_TITLE_WEBSITE_2 | CJ1: PROD_AUD_WEBSITE_2 | CK1: PROD_NUM_USED_WEBSITE_2 | CL1: PROD_LANGS_WEBSITE_2 | CM1: PROD_NUM_DEV_WEBSITE_3 | CN1: PROD_TITLE_WEBSITE_3 | CO1: PROD_AUD_WEBSITE_3 | CP1: PROD_NUM_USED_WEBSITE_3 | CQ1: PROD_LANGS_WEBSITE_3 | CR1: PROD_OTHER_DESC | CS1: PROD_NUM_DEV_OTHER_1 | CT1: PROD_TITLE_OTHER_1 | CU1: PROD_AUD_USED_OTHER_1 | CV1: PROD_NUM_USED_OTHER_1 | CW1: PROD_LANGS_OTHER_1 | CX1: funds_staff | CY1: ST_FUNDSUSED_1and0 | CZ1: STAFF_FTE_ADMIN | DA1: STAFF_FTE_CHILD_ADVOCATE | DB1: STAFF_FTE_COUNSELOR | DC1: STAFF_FTE_LEGAL_ADVOCATE | DD1: STAFF_FTE_OUTREACH_WORKER | DE1: STAFF_FTE_PROGRAM_COORDINATOR | DF1: STAFF_FTE_SUPPORT | DG1: STAFF_FTE_TRANSLATOR | DH1: STAFF_FTE_VICTIM_ADVOCATE | DI1: STAFF_FTE_OTHER_DESC | DJ1: STAFF_FTE_OTHER | DK1: STAFF_FTE_TOTAL | DL1: VS_SERVD | DM1: VS_PART_SRV | DN1: VS_SRVD_AND_PRT_TOTAL | DO1: VS_NOT_SRVD | DP1: RSN_NOT_SRVD_CONFLICT | DQ1: RSN_NOT_SRVD_STATUTORY | DR1: RSN_NOT_SRVD_HOURS | DS1: RSN_NOT_SRVD_CULTURAL | DT1: RSN_NOT_SRVD_LANGUAGE | DU1: RSN_NOT_SRVD_DEAF | DV1: RSN_NOT_SRVD_DISAB | DW1: RSN_NOT_SRVD_CHILDCARE | DX1: RSN_NOT_SRVD_CAPACITY | DY1: RSN_NOT_SRVD_RULES | DZ1: RSN_NOT_SRVD_LMTD_RESRCE | EA1: RSN_NOT_SRVD_MNTL_HLTH | EB1: RSN_NOT_SRVD_SBST_ABSE | EC1: RSN_NOT_SRVD_NOT_APPROP | ED1: RSN_NOT_SRVD_TRANSPORT | EE1: RSN_NOT_SRVD_OTHER | EF1: RSN_NOT_SRVD_OTHER_DESC | EG1: VS_DEMO_RACE_INDIAN | EH1: VS_DEMO_RACE_ASIAN | EI1: VS_DEMO_RACE_BLACK | EJ1: VS_DEMO_RACE_LATINO | EK1: VS_DEMO_RACE_PACIFIC | EL1: VS_DEMO_RACE_WHITE | EM1: VS_DEMO_RACE_UNKNOWN | EN1: VS_DEMO_RACE_TOTAL | EO1: VS_DEMO_GNDR_FEMALE | EP1: VS_DEMO_GNDR_MALE | EQ1: VS_DEMO_GNDR_UNKNOWN | ER1: VS_DEMO_GNDR_TOTAL | ES1: VS_DEMO_AGE_0_TO_6 | ET1: VS_DEMO_AGE_7_TO_12 | EU1: VS_DEMO_AGE_13_TO_17 | EV1: VS_DEMO_AGE_18_TO_24 | EW1: VS_DEMO_AGE_25_TO_59 | EX1: VS_DEMO_AGE_60_OR_OVER | EY1: VS_DEMO_AGE_UNKNOWN | EZ1: VS_DEMO_AGE_TOTAL | FA1: VS_DEMO_OTHR_DISABILITIES | FB1: VS_DEMO_OTHR_DEAF | FC1: VS_DEMO_OTHR_LMTD_ENGLISH | FD1: VS_DEMO_OTHR_IMMIGRANTS | FE1: VS_DEMO_OTHR_RURAL | FF1: VS_RLTN_SPOUSE | FG1: VS_RLTN_OTHR_FAMILY | FH1: VS_RLTN_DATING_RLTN | FI1: VS_RLTN_ACQUAINTANCE | FJ1: VS_RLTN_STRANGER | FK1: VS_RLTN_UNKNOWN | FL1: VS_RLTN_TOTAL | FM1: VS_TYPE_CIVIL_LGL_ADVOC | FN1: VS_TYPE_COUNSELING | FO1: VS_TYPE_CRIM_JUST_ADVOC | FP1: VS_TYPE_CRISIS_INTERVNTN | FQ1: VS_TYPE_EMPLOY_CNSL | FR1: VS_TYPE_FINACIAL_CNSL | FS1: VS_TYPE_HOSPITAL | FT1: VS_TYPE_JOB_TRAINING | FU1: VS_TYPE_LANG_SVCS | FV1: VS_TYPE_MATERIAL_ASST | FW1: VS_TYPE_TRANSPORTATION | FX1: VS_TYPE_VICTIM_ADVOCACY | FY1: VS_TYPE_OTHER | FZ1: VS_TYPE_OTHER_DESC | GA1: HOTLINE_CALLS_VICTIMS | GB1: HOTLINE_CALLS_TOTAL | GC1: WALK_IN_INFO_VICTIMS | GD1: WALK_IN_INFO_TOTAL | GE1: WEB_INFO_VICTIMS | GF1: WEB_INFO_TOTAL | GG1: OUTREACH_NUM_ACTIVITIES | GH1: PO_TEMP_REQ | GI1: PO_FINAL_REQ | GJ1: PO_TEMP_GRANT | GK1: PO_FINAL_GRANT
A2: SASP05_2022_LA_8330 | B2: 8330 | C2: LA8330 | D2: SASP | E2: SASP_05 | F2: ANNUAL | G2: 44951 | H2: 2022 | I2: ADAPT, Inc. | J2: 6712 | P2: SEXUAL ASSAULT PROGRAM | Q2: n/a | R2: NO | S2: YES | T2: Thomas | U2: R | V2: Fornea | W2: ADAPT, Inc./ Washington Parish Rape Crisis Center | X2: 216 Memphis Street | Y2: Bogalusa | Z2: LA | AA2: 70427 | AB2: 985-735-0160 | AC2: 985-735-0970 | AD2: rfornea@adaptwp.org | AE2: NO | AG2: 10 | AL2: Without the assistance of the SASP Program funds, many of our sexual assault victims/survivors would not be able to access needed services to aid them in overcoming the trauma of being assaulted and in the recovery to their former level of functioning. Both they and their families would endure additional suffering without this assistance. | AQ2: 1 | AR2: 1 | AS2: 1 | AT2: 1 | AU2: 0 | AV2: 0 | AW2: NO | AX2: 0 | AY2: 0 | BB2: 0 | BD2: 0 | BG2: 0 | BI2: 0 | BL2: 0 | BN2: 0 | BQ2: 0 | BS2: 0 | BV2: 0 | BX2: 0 | CA2: 0 | CC2: 0 | CF2: 0 | CH2: 0 | CK2: 0 | CM2: 0 | CP2: 0 | CS2: 0 | CV2: 0 | CX2: YES | CY2: 1 | CZ2: 0.1 | DA2: 0 | DB2: 0.17 | DC2: 0 | DD2: 0 | DE2: 0.34 | DF2: 0.1 | DG2: 0 | DH2: 0 | DJ2: 0 | DK2: 0.71 | DL2: 31 | DM2: 0 | DN2: 31 | DO2: 0 | DP2: 0 | DQ2: 0 | DR2: 0 | DS2: 0 | DT2: 0 | DU2: 0 | DV2: 0 | DW2: 0 | DX2: 0 | DY2: 0 | DZ2: 0 | EA2: 0 | EB2: 0 | EC2: 0 | ED2: 0 | EE2: 0 | EG2: 0 | EH2: 0 | EI2: 6 | EJ2: 1 | EK2: 0 | EL2: 24 | EM2: 0 | EN2: 31 | EO2: 30 | EP2: 1 | EQ2: 0 | ER2: 31 | ES2: 0 | ET2: 6 | EU2: 3 | EV2: 4 | EW2: 18 | EX2: 0 | EY2: 0 | EZ2: 31 | FA2: 0 | FB2: 0 | FC2: 0 | FD2: 3 | FE2: 31 | FF2: 4 | FG2: 17 | FH2: 5 | FI2: 2 | FJ2: 1 | FK2: 2 | FL2: 31 | FM2: 2 | FN2: 30 | FO2: 5 | FP2: 28 | FQ2: 0 | FR2: 0 | FS2: 6 | FT2: 0 | FU2: 0 | FV2: 0 | FW2: 0 | FX2: 31 | FY2: 0 | GA2: 79 | GB2: 220 | GC2: 11 | GD2: 32 | GE2: 0 | GF2: 0 | GG2: 15 | GH2: 0 | GI2: 0 | GJ2: 0 | GK2: 0
A3: SASP05_2022_LA_8334 | B3: 8334 | C3: LA8334 | D3: SASP | E3: SASP_05 | F3: ANNUAL | G3: 44584 | H3: 2022 | I3: New Orleans Family Justice Alliance | J3: 6624 | P3: DUAL PROGRAM | Q3: N/A | R3: NO | S3: YES | T3: Mary Claire | V3: Landry | W3: New Orleans Fmaily Justice Alliance | X3: 701 Loyola Avenue Suite 201 | Y3: New Orleans | Z3: LA | AA3: 70113 | AB3: 504-355-0851 | AC3: 504-592-4008 | AD3: mclandry@nofjc.org | AE3: NO | AG3: 3 | AL3: The services and opportunities funded through SASP funding are vital to the community. The funds are spent on making certain survivors are not lost, but are contacted to make certain that their desired needs are met and to let them know the services we offer and that we are ready to receive and help them when they are ready for services. We make sure that all linkages are made, that medical and civil legal needs are met and that the services on-site (such as the NOPD, the DA's office, legal services, etc.) are known and available to the survivor. In addition, the funding for outreach is vital in working with youth to prevent sexual assaults and in letting diverse population know of the services we offer. | AP3: As a result of SASP funding, we were able to provide outreach services, including prevention, to schools and events of other organizations. There were 15 events that the Director of Outreach and Prevention funded partially through this grant planned for and attended, with a reach of over 600 individuals. In addition, the Director of Outreach and Prevention speaks with community members and leaders to get the word out about services to sexual assault survivors. This funding also provides funding for our Sexual Assault Services Coordinator. The coordinator makes certain that survivors are connected to services and resources and that survivors seen for forensic exams receive follow-up services and are made aware of all of the services offered by the NOFJC and our partners. During this reporting period, there were 171 survivors who received medical advocacy during forensic exams. The Sexual Assault Services Coordinator also coordinates with the City of New Orleans and the community, and acts as a co-facilitator for Sexual Assault Multi-Disciplinary Meetings and Sexual Assault Advocacy Coalition meetings. | AQ3: 0 | AR3: 1 | AS3: 1 | AT3: 1 | AU3: 0 | AV3: 0 | AW3: NO | AX3: 0 | AY3: 0 | BB3: 0 | BD3: 0 | BG3: 0 | BI3: 0 | BL3: 0 | BN3: 0 | BQ3: 0 | BS3: 0 | BV3: 0 | BX3: 0 | CA3: 0 | CC3: 0 | CF3: 0 | CH3: 0 | CK3: 0 | CM3: 0 | CP3: 0 | CS3: 0 | CV3: 0 | CX3: YES | CY3: 1 | CZ3: 0 | DA3: 0 | DB3: 0 | DC3: 0 | DD3: 0.2 | DE3: 0.8 | DF3: 0.1 | DG3: 0 | DH3: 0 | DJ3: 0 | DK3: 1.1 | DL3: 75 | DM3: 0 | DN3: 75 | DO3: 0 | DP3: 0 | DQ3: 0 | DR3: 0 | DS3: 0 | DT3: 0 | DU3: 0 | DV3: 0 | DW3: 0 | DX3: 0 | DY3: 0 | DZ3: 0 | EA3: 0 | EB3: 0 | EC3: 0 | ED3: 0 | EE3: 0 | EG3: 0 | EH3: 3 | EI3: 37 | EJ3: 7 | EK3: 1 | EL3: 25 | EM3: 2 | EN3: 75 | EO3: 70 | EP3: 3 | EQ3: 2 | ER3: 75 | ES3: 0 | ET3: 0 | EU3: 0 | EV3: 29 | EW3: 46 | EX3: 0 | EY3: 0 | EZ3: 75 | FA3: 33 | FB3: 5 | FC3: 4 | FD3: 2 | FE3: 3 | FF3: 16 | FG3: 2 | FH3: 25 | FI3: 16 | FJ3: 9 | FK3: 7 | FL3: 75 | FM3: 1 | FN3: 8 | FO3: 2 | FP3: 0 | FQ3: 0 | FR3: 0 | FS3: 2 | FT3: 0 | FU3: 0 | FV3: 0 | FW3: 0 | FX3: 75 | FY3: 0 | GA3: 0 | GB3: 0 | GC3: 0 | GD3: 0 | GE3: 0 | GF3: 0 | GG3: 0 | GH3: 0 | GI3: 0 | GJ3: 0 | GK3: 0
A4: SASP05_2022_LA_8335 | B4: 8335 | C4: LA8335 | D4: SASP | E4: SASP_05 | F4: ANNUAL | G4: 44935 | H4: 2022 | I4: Oasis A Safe Haven for Survivors of Domestic and S | J4: 6629 | P4: DUAL PROGRAM | Q4: N/A | R4: NO | S4: YES | T4: Kathy | U4: L | V4: Manuel | W4: Oasis A Safe Haven for Survivors of Domestic and Sexual Violence | X4: 601 W. 18th Street | Y4: Lake Charles | Z4: LA | AA4: 70601 | AB4: (337) 436-4552 | AC4: (337) 436-8327 | AD4: kathymanuel@oasisasafehaven.org | AE4: NO | AG4: 12 | AQ4: 1 | AR4: 1 | AS4: 1 | AT4: 1 | AU4: 1 | AV4: 1 | AW4: NO | AX4: 0 | AY4: 0 | BB4: 0 | BD4: 0 | BG4: 0 | BI4: 0 | BL4: 0 | BN4: 0 | BQ4: 0 | BS4: 0 | BV4: 0 | BX4: 0 | CA4: 0 | CC4: 0 | CF4: 0 | CH4: 0 | CK4: 0 | CM4: 0 | CP4: 0 | CS4: 0 | CV4: 0 | CX4: YES | CY4: 1 | CZ4: 0 | DA4: 0 | DB4: 0 | DC4: 0 | DD4: 0 | DE4: 0 | DF4: 0 | DG4: 0 | DH4: 1 | DJ4: 0 | DK4: 1 | DL4: 206 | DM4: 0 | DN4: 206 | DO4: 0 | DP4: 0 | DQ4: 0 | DR4: 0 | DS4: 0 | DT4: 0 | DU4: 0 | DV4: 0 | DW4: 0 | DX4: 0 | DY4: 0 | DZ4: 0 | EA4: 0 | EB4: 0 | EC4: 0 | ED4: 0 | EE4: 0 | EG4: 0 | EH4: 0 | EI4: 59 | EJ4: 5 | EK4: 0 | EL4: 135 | EM4: 7 | EN4: 206 | EO4: 173 | EP4: 33 | EQ4: 0 | ER4: 206 | ES4: 0 | ET4: 12 | EU4: 3 | EV4: 28 | EW4: 154 | EX4: 9 | EY4: 0 | EZ4: 206 | FA4: 0 | FB4: 0 | FC4: 0 | FD4: 0 | FE4: 206 | FF4: 40 | FG4: 134 | FH4: 64 | FI4: 0 | FJ4: 39 | FK4: 4 | FL4: 281 | FM4: 1 | FN4: 206 | FO4: 0 | FP4: 206 | FQ4: 0 | FR4: 0 | FS4: 45 | FT4: 0 | FU4: 0 | FV4: 0 | FW4: 0 | FX4: 0 | FY4: 0 | FZ4: N/A | GA4: 291 | GB4: 291 | GC4: 0 | GD4: 0 | GE4: 0 | GF4: 0 | GG4: 358 | GH4: 0 | GI4: 0 | GJ4: 0 | GK4: 0
A5: SASP05_2022_LA_8331 | B5: 8331 | C5: LA8331 | D5: SASP | E5: SASP_05 | F5: ANNUAL | G5: 44951 | H5: 2022 | I5: Hearts of Hope | J5: 2021-KF-01-6554 | P5: SEXUAL ASSAULT PROGRAM | Q5: N/a | R5: NO | S5: NO | T5: Kimberly | V5: Young | W5: Hearts of Hope | X5: 911 General Mouton Avenue | Y5: Lafayette | Z5: LA | AA5: 70505 | AB5: 3340000000 | AC5: 3370000000 | AD5: kimberly.young@theheartsofhope.org | AE5: NO | AG5: 7 | AP5: SASP funding allowed us to provide legal services for Protection Orders at no costs to survivors. | AQ5: 1 | AR5: 1 | AS5: 1 | AT5: 1 | AU5: 0 | AV5: 0 | AW5: YES | AX5: 1 | AY5: 1 | AZ5: Agency brochure | BA5: General public | BB5: 5000 | BC5: 0 | BD5: 1 | BE5: Survivor Handbook | BF5: Victims | BG5: 0 | BH5: Spanish | BI5: 0 | BL5: 0 | BN5: 1 | BO5: Crisis line number ink pens | BP5: General public | BQ5: 1000 | BR5: 0 | BS5: 0 | BV5: 0 | BX5: 0 | CA5: 0 | CC5: 0 | CF5: 0 | CH5: 0 | CK5: 0 | CM5: 0 | CP5: 0 | CS5: 0 | CV5: 0 | CX5: YES | CY5: 1 | CZ5: 0 | DA5: 0 | DB5: 0 | DC5: 0 | DD5: 0 | DE5: 0 | DF5: 0 | DG5: 0 | DH5: 0.92 | DI5: Attorney | DJ5: 0.04 | DK5: 0.96 | DL5: 93 | DM5: 0 | DN5: 93 | DO5: 7 | DP5: 0 | DQ5: 0 | DR5: 0 | DS5: 0 | DT5: 0 | DU5: 0 | DV5: 0 | DW5: 0 | DX5: 0 | DY5: 0 | DZ5: 0 | EA5: 0 | EB5: 0 | EC5: 0 | ED5: 0 | EE5: 1 | EF5: Could not be reached after initial contact; moved out of area | EG5: 1 | EH5: 2 | EI5: 19 | EJ5: 3 | EK5: 0 | EL5: 56 | EM5: 12 | EN5: 93 | EO5: 90 | EP5: 2 | EQ5: 1 | ER5: 93 | ES5: 0 | ET5: 0 | EU5: 0 | EV5: 44 | EW5: 49 | EX5: 0 | EY5: 0 | EZ5: 93 | FA5: 27 | FB5: 0 | FC5: 2 | FD5: 0 | FE5: 24 | FF5: 19 | FG5: 13 | FH5: 35 | FI5: 0 | FJ5: 8 | FK5: 21 | FL5: 96 | FM5: 29 | FN5: 0 | FO5: 42 | FP5: 13 | FQ5: 0 | FR5: 0 | FS5: 19 | FT5: 0 | FU5: 0 | FV5: 9 | FW5: 0 | FX5: 65 | FY5: 39 | FZ5: Case tracking and updates; CVR | GA5: 247 | GB5: 247 | GC5: 0 | GD5: 0 | GE5: 3 | GF5: 3 | GG5: 23 | GH5: 6 | GI5: 3 | GJ5: 5 | GK5: 3
A6: SASP05_2022_LA_8332 | B6: 8332 | C6: LA8332 | D6: SASP | E6: SASP_05 | F6: ANNUAL | G6: 44959 | H6: 2022 | I6: Louisiana Foundation Against Sexual Assault | J6: 2022-KF-01-6578 | P6: SEXUAL ASSULT/DUAL COALITION | Q6: n/a | R6: NO | S6: NO | T6: Rafael | V6: de Castro | W6: Louisiana Foundation Against Sexual Assault | X6: 2133 Silverside Drive Suite A | Y6: Baton Rouge | Z6: LA | AA6: 70808 | AB6: 225-372-7400 | AD6: rafael@lafasa.org | AE6: NO | AG6: 20 | AP6: This SASP administration grant continues to be an effective program and provides much needed services to survivors and their families across the state of Louisiana. This SASP program is responsible for the statewide hot line available to survivors and secondary victims as will as it pays for a large percentage of the language line provided for those with Limited English Proficiency. language line services were utilized 1,018 times in 2022. | AQ6: 1 | AR6: 0 | AS6: 0 | AT6: 1 | AU6: 0 | AV6: 0 | AW6: NO | AX6: 0 | AY6: 0 | BB6: 0 | BD6: 0 | BG6: 0 | BI6: 0 | BL6: 0 | BN6: 0 | BQ6: 0 | BS6: 0 | BV6: 0 | BX6: 0 | CA6: 0 | CC6: 0 | CF6: 0 | CH6: 0 | CK6: 0 | CM6: 0 | CP6: 0 | CS6: 0 | CV6: 0 | CX6: YES | CY6: 1 | CZ6: 0.13 | DA6: 0 | DB6: 0 | DC6: 0 | DD6: 0 | DE6: 0 | DF6: 0 | DG6: 0 | DH6: 0 | DJ6: 0 | DK6: 0.13 | DL6: 1078 | DM6: 0 | DN6: 1078 | DO6: 0 | DP6: 0 | DQ6: 0 | DR6: 0 | DS6: 0 | DT6: 0 | DU6: 0 | DV6: 0 | DW6: 0 | DX6: 0 | DY6: 0 | DZ6: 0 | EA6: 0 | EB6: 0 | EC6: 0 | ED6: 0 | EE6: 0 | EG6: 0 | EH6: 5 | EI6: 0 | EJ6: 986 | EK6: 0 | EL6: 0 | EM6: 87 | EN6: 1078 | EO6: 0 | EP6: 0 | EQ6: 1078 | ER6: 1078 | ES6: 0 | ET6: 0 | EU6: 0 | EV6: 0 | EW6: 0 | EX6: 0 | EY6: 1078 | EZ6: 1078 | FA6: 0 | FB6: 0 | FC6: 1019 | FD6: 0 | FE6: 0 | FF6: 11 | FG6: 10 | FH6: 11 | FI6: 0 | FJ6: 4 | FK6: 1042 | FL6: 1078 | FM6: 0 | FN6: 0 | FO6: 0 | FP6: 2 | FQ6: 0 | FR6: 0 | FS6: 0 | FT6: 0 | FU6: 1019 | FV6: 0 | FW6: 0 | FX6: 52 | FY6: 5 | FZ6: Unknown | GA6: 60 | GB6: 102 | GC6: 0 | GD6: 0 | GE6: 0 | GF6: 0 | GG6: 0 | GH6: 0 | GI6: 0 | GJ6: 0 | GK6: 0
A7: SASP05_2022_LA_8333 | B7: 8333 | C7: LA8333 | D7: SASP | E7: SASP_05 | F7: ANNUAL | G7: 44963 | H7: 2022 | I7: Metro Centers for Community Advocacy | J7: 6550 | P7: DUAL PROGRAM | Q7: n/a | R7: NO | S7: NO | T7: Alane | U7: M | V7: Haik | W7: Metro Centers for Community Advocacy | X7: PO Box 10775 | Y7: New Orleans | Z7: LA | AA7: 70181 | AB7: 504-837-5400 | AC7: 504-828-2893 | AD7: ahaik@mccagno.org | AE7: NO | AG7: 0 | AQ7: 1 | AR7: 0 | AS7: 1 | AT7: 1 | AU7: 0 | AV7: 0 | AW7: NO | AX7: 0 | AY7: 0 | BB7: 0 | BD7: 0 | BG7: 0 | BI7: 0 | BL7: 0 | BN7: 0 | BQ7: 0 | BS7: 0 | BV7: 0 | BX7: 0 | CA7: 0 | CC7: 0 | CF7: 0 | CH7: 0 | CK7: 0 | CM7: 0 | CP7: 0 | CS7: 0 | CV7: 0 | CX7: YES | CY7: 1 | CZ7: 0.28 | DA7: 0 | DB7: 0 | DC7: 0 | DD7: 0 | DE7: 0 | DF7: 0 | DG7: 0 | DH7: 1 | DI7: Technology | DJ7: 0.55 | DK7: 1.83 | DL7: 32 | DM7: 0 | DN7: 32 | DO7: 0 | DP7: 0 | DQ7: 0 | DR7: 0 | DS7: 0 | DT7: 0 | DU7: 0 | DV7: 0 | DW7: 0 | DX7: 0 | DY7: 0 | DZ7: 0 | EA7: 0 | EB7: 0 | EC7: 0 | ED7: 0 | EE7: 0 | EG7: 0 | EH7: 0 | EI7: 4 | EJ7: 0 | EK7: 0 | EL7: 26 | EM7: 2 | EN7: 32 | EO7: 27 | EP7: 5 | EQ7: 0 | ER7: 32 | ES7: 1 | ET7: 1 | EU7: 0 | EV7: 14 | EW7: 16 | EX7: 0 | EY7: 0 | EZ7: 32 | FA7: 13 | FB7: 0 | FC7: 0 | FD7: 0 | FE7: 16 | FF7: 3 | FG7: 16 | FH7: 26 | FI7: 2 | FJ7: 18 | FK7: 0 | FL7: 65 | FM7: 1 | FN7: 7 | FO7: 3 | FP7: 3 | FQ7: 0 | FR7: 0 | FS7: 0 | FT7: 0 | FU7: 0 | FV7: 0 | FW7: 2 | FX7: 14 | FY7: 2 | FZ7: Unknown | GA7: 0 | GB7: 0 | GC7: 0 | GD7: 0 | GE7: 0 | GF7: 0 | GG7: 0 | GH7: 0 | GI7: 0 | GJ7: 0 | GK7: 0
A8: SASP05_2022_LA_8336 | B8: 8336 | C8: LA8336 | D8: SASP | E8: SASP_05 | F8: ANNUAL | G8: 44949 | H8: 2022 | I8: Pine Hills Children's Advocacy Center | J8: 6562 | P8: SEXUAL ASSAULT PROGRAM | R8: NO | S8: NO | T8: Julia | V8: Summersgill | W8: Pine Hills Children's Advocacy Center | X8: 100 W. Texas, Second Floor | Y8: Ruston | Z8: LA | AA8: 71270 | AB8: 318-255-7273 | AD8: jsummersgill@lincolnparish.org | AE8: NO | AG8: 87 | AQ8: 1 | AR8: 1 | AS8: 1 | AT8: 1 | AU8: 0 | AV8: 0 | AW8: NO | AX8: 0 | AY8: 0 | BB8: 0 | BD8: 0 | BG8: 0 | BI8: 0 | BL8: 0 | BN8: 0 | BQ8: 0 | BS8: 0 | BV8: 0 | BX8: 0 | CA8: 0 | CC8: 0 | CF8: 0 | CH8: 0 | CK8: 0 | CM8: 0 | CP8: 0 | CS8: 0 | CV8: 0 | CX8: YES | CY8: 1 | CZ8: 0.47 | DA8: 0 | DB8: 0.09 | DC8: 0 | DD8: 0 | DE8: 0 | DF8: 0 | DG8: 0 | DH8: 0 | DI8: hotline operator | DJ8: 0.01 | DK8: 0.57 | DL8: 239 | DM8: 0 | DN8: 239 | DO8: 0 | DP8: 0 | DQ8: 0 | DR8: 0 | DS8: 0 | DT8: 0 | DU8: 0 | DV8: 0 | DW8: 0 | DX8: 0 | DY8: 0 | DZ8: 0 | EA8: 0 | EB8: 0 | EC8: 0 | ED8: 0 | EE8: 0 | EG8: 0 | EH8: 0 | EI8: 74 | EJ8: 14 | EK8: 0 | EL8: 151 | EM8: 0 | EN8: 239 | EO8: 174 | EP8: 65 | EQ8: 0 | ER8: 239 | ES8: 44 | ET8: 83 | EU8: 44 | EV8: 36 | EW8: 26 | EX8: 6 | EY8: 0 | EZ8: 239 | FA8: 2 | FB8: 0 | FC8: 5 | FD8: 0 | FE8: 239 | FF8: 11 | FG8: 165 | FH8: 48 | FI8: 10 | FJ8: 5 | FK8: 0 | FL8: 239 | FM8: 0 | FN8: 126 | FO8: 103 | FP8: 2 | FQ8: 0 | FR8: 0 | FS8: 11 | FT8: 0 | FU8: 6 | FV8: 0 | FW8: 0 | FX8: 51 | FY8: 0 | GA8: 140 | GB8: 357 | GC8: 0 | GD8: 0 | GE8: 5 | GF8: 5 | GG8: 51 | GH8: 0 | GI8: 0 | GJ8: 0 | GK8: 0
A9: SASP05_2022_LA_8340 | B9: 8340 | C9: LA8340 | D9: SASP | E9: SASP_05 | F9: ANNUAL | G9: 44957 | H9: 2022 | I9: The Haven, Inc | J9: 2022-KF-01-6697 | P9: DUAL PROGRAM | Q9: n/a | R9: NO | S9: NO | T9: Julie | U9: M | V9: Pellegrin | W9: The Haven, Inc. | X9: PO Box 4279 | Y9: Houma | Z9: LA | AA9: 70361 | AB9: (985) 346-3960 | AD9: julie@havenhelps.org | AE9: NO | AG9: 28 | AQ9: 1 | AR9: 1 | AS9: 1 | AT9: 0 | AU9: 0 | AV9: 0 | AW9: NO | AX9: 0 | AY9: 0 | BB9: 0 | BD9: 0 | BG9: 0 | BI9: 0 | BL9: 0 | BN9: 0 | BQ9: 0 | BS9: 0 | BV9: 0 | BX9: 0 | CA9: 0 | CC9: 0 | CF9: 0 | CH9: 0 | CK9: 0 | CM9: 0 | CP9: 0 | CS9: 0 | CV9: 0 | CX9: YES | CY9: 1 | CZ9: 0 | DA9: 0 | DB9: 0.86 | DC9: 0 | DD9: 0 | DE9: 0 | DF9: 0 | DG9: 0 | DH9: 0 | DJ9: 0 | DK9: 0.86 | DL9: 134 | DM9: 0 | DN9: 134 | DO9: 0 | DP9: 0 | DQ9: 0 | DR9: 0 | DS9: 0 | DT9: 0 | DU9: 0 | DV9: 0 | DW9: 0 | DX9: 0 | DY9: 0 | DZ9: 0 | EA9: 0 | EB9: 0 | EC9: 0 | ED9: 0 | EE9: 0 | EG9: 5 | EH9: 1 | EI9: 37 | EJ9: 2 | EK9: 1 | EL9: 88 | EM9: 0 | EN9: 134 | EO9: 133 | EP9: 1 | EQ9: 0 | ER9: 134 | ES9: 0 | ET9: 0 | EU9: 10 | EV9: 23 | EW9: 92 | EX9: 5 | EY9: 4 | EZ9: 134 | FA9: 69 | FB9: 0 | FC9: 0 | FD9: 0 | FE9: 56 | FF9: 62 | FG9: 11 | FH9: 26 | FI9: 3 | FJ9: 17 | FK9: 15 | FL9: 134 | FM9: 0 | FN9: 59 | FO9: 0 | FP9: 44 | FQ9: 0 | FR9: 0 | FS9: 66 | FT9: 0 | FU9: 0 | FV9: 0 | FW9: 0 | FX9: 0 | FY9: 0 | GA9: 48 | GB9: 48 | GC9: 0 | GD9: 0 | GE9: 0 | GF9: 0 | GG9: 0 | GH9: 0 | GI9: 0 | GJ9: 0 | GK9: 0
A10: SASP05_2022_LA_8341 | B10: 8341 | C10: LA8341 | D10: SASP | E10: SASP_05 | F10: ANNUAL | G10: 44956 | H10: 2022 | I10: Wellspring Alliance for Families | J10: 2021-KF-01 | P10: SEXUAL ASSAULT PROGRAM | Q10: N/A | R10: NO | S10: YES | T10: Lisa | V10: Logenbaugh | W10: Wellspring Alliance for Families | X10: 1515 Jackson Street | Y10: Monroe | Z10: LA | AA10: 71202 | AB10: 318-323-1505 | AC10: 318-323-1361 | AD10: llongenbaugh@wellspringalliance.org | AE10: NO | AG10: 12 | AQ10: 0 | AR10: 1 | AS10: 1 | AT10: 1 | AU10: 0 | AV10: 0 | AW10: NO | AX10: 0 | AY10: 0 | BB10: 0 | BD10: 0 | BG10: 0 | BI10: 0 | BL10: 0 | BN10: 0 | BQ10: 0 | BS10: 0 | BV10: 0 | BX10: 0 | CA10: 0 | CC10: 0 | CF10: 0 | CH10: 0 | CK10: 0 | CM10: 0 | CP10: 0 | CS10: 0 | CV10: 0 | CX10: YES | CY10: 1 | CZ10: 0.05 | DA10: 0 | DB10: 0.5 | DC10: 0 | DD10: 0 | DE10: 0.05 | DF10: 0.05 | DG10: 0 | DH10: 0.1 | DJ10: 0 | DK10: 0.75 | DL10: 37 | DM10: 0 | DN10: 37 | DO10: 0 | DP10: 0 | DQ10: 0 | DR10: 0 | DS10: 0 | DT10: 0 | DU10: 0 | DV10: 0 | DW10: 0 | DX10: 0 | DY10: 0 | DZ10: 0 | EA10: 0 | EB10: 0 | EC10: 0 | ED10: 0 | EE10: 0 | EG10: 0 | EH10: 0 | EI10: 10 | EJ10: 0 | EK10: 0 | EL10: 27 | EM10: 0 | EN10: 37 | EO10: 31 | EP10: 6 | EQ10: 0 | ER10: 37 | ES10: 0 | ET10: 4 | EU10: 9 | EV10: 10 | EW10: 13 | EX10: 1 | EY10: 0 | EZ10: 37 | FA10: 4 | FB10: 0 | FC10: 0 | FD10: 0 | FE10: 15 | FF10: 7 | FG10: 13 | FH10: 10 | FI10: 1 | FJ10: 6 | FK10: 0 | FL10: 37 | FM10: 1 | FN10: 33 | FO10: 2 | FP10: 21 | FQ10: 0 | FR10: 0 | FS10: 31 | FT10: 0 | FU10: 0 | FV10: 0 | FW10: 0 | FX10: 5 | FY10: 0 | GA10: 79 | GB10: 630 | GC10: 29 | GD10: 29 | GE10: 0 | GF10: 0 | GG10: 0 | GH10: 0 | GI10: 0 | GJ10: 0 | GK10: 0
A11: SASP05_2022_LA_8337 | B11: 8337 | C11: LA8337 | D11: SASP | E11: SASP_05 | F11: ANNUAL | G11: 44945 | H11: 2022 | I11: Project Celebration, Inc | J11: 6566 | P11: DUAL PROGRAM | R11: NO | S11: NO | T11: Carissa | U11: K | V11: McCormic | W11: Project Celebration, Inc. | X11: 580 Main St | Y11: Many | Z11: LA | AA11: 71449 | AB11: (318) 256-6242 | AC11: (318) 256-2064 | AD11: finance@projectcelebration.com | AE11: NO | AG11: 11 | AQ11: 1 | AR11: 1 | AS11: 1 | AT11: 1 | AU11: 0 | AV11: 0 | AW11: NO | AX11: 0 | AY11: 0 | BB11: 0 | BD11: 0 | BG11: 0 | BI11: 0 | BL11: 0 | BN11: 0 | BQ11: 0 | BS11: 0 | BV11: 0 | BX11: 0 | CA11: 0 | CC11: 0 | CF11: 0 | CH11: 0 | CK11: 0 | CM11: 0 | CP11: 0 | CS11: 0 | CV11: 0 | CX11: YES | CY11: 1 | CZ11: 0.09 | DA11: 0 | DB11: 0 | DC11: 0 | DD11: 0.47 | DE11: 0.08 | DF11: 0.16 | DG11: 0 | DH11: 0.19 | DJ11: 0 | DK11: 0.99 | DL11: 126 | DM11: 0 | DN11: 126 | DO11: 0 | DP11: 0 | DQ11: 0 | DR11: 0 | DS11: 0 | DT11: 0 | DU11: 0 | DV11: 0 | DW11: 0 | DX11: 0 | DY11: 0 | DZ11: 0 | EA11: 0 | EB11: 0 | EC11: 0 | ED11: 0 | EE11: 0 | EG11: 0 | EH11: 2 | EI11: 70 | EJ11: 1 | EK11: 0 | EL11: 44 | EM11: 9 | EN11: 126 | EO11: 110 | EP11: 6 | EQ11: 10 | ER11: 126 | ES11: 13 | ET11: 7 | EU11: 19 | EV11: 22 | EW11: 56 | EX11: 2 | EY11: 7 | EZ11: 126 | FA11: 12 | FB11: 0 | FC11: 1 | FD11: 0 | FE11: 3 | FF11: 17 | FG11: 24 | FH11: 60 | FI11: 4 | FJ11: 12 | FK11: 9 | FL11: 126 | FM11: 8 | FN11: 64 | FO11: 60 | FP11: 64 | FQ11: 0 | FR11: 0 | FS11: 101 | FT11: 0 | FU11: 1 | FV11: 0 | FW11: 2 | FX11: 118 | FY11: 0 | GA11: 126 | GB11: 1515 | GC11: 0 | GD11: 0 | GE11: 0 | GF11: 0 | GG11: 60 | GH11: 2 | GI11: 0 | GJ11: 0 | GK11: 0
A12: SASP05_2022_LA_8338 | B12: 8338 | C12: LA8338 | D12: SASP | E12: SASP_05 | F12: ANNUAL | G12: 44584 | H12: 2022 | I12: Sexual Assault Services Program | J12: 6658 | P12: SEXUAL ASSAULT PROGRAM | Q12: n/a | R12: NO | S12: NO | T12: LaPearl | U12: M | V12: Simmons | W12: St. Landry-Evangeline Sexual Assault Center | X12: 213 N. Main Street (P.O. Box 235) | Y12: Opelousas | Z12: LA | AA12: 70571 | AB12: 3380000000 | AC12: 3380000000 | AD12: slesac@yahoo.com | AE12: NO | AG12: 7 | AQ12: 1 | AR12: 1 | AS12: 1 | AT12: 1 | AU12: 1 | AV12: 0 | AW12: NO | AX12: 0 | AY12: 0 | BB12: 0 | BD12: 0 | BG12: 0 | BI12: 0 | BL12: 0 | BN12: 0 | BQ12: 0 | BS12: 0 | BV12: 0 | BX12: 0 | CA12: 0 | CC12: 0 | CF12: 0 | CH12: 0 | CK12: 0 | CM12: 0 | CP12: 0 | CS12: 0 | CV12: 0 | CX12: YES | CY12: 1 | CZ12: 0.4 | DA12: 0 | DB12: 0 | DC12: 0 | DD12: 0 | DE12: 0 | DF12: 0.1 | DG12: 0 | DH12: 0 | DJ12: 0 | DK12: 0.5 | DL12: 17 | DM12: 0 | DN12: 17 | DO12: 0 | DP12: 0 | DQ12: 0 | DR12: 0 | DS12: 0 | DT12: 0 | DU12: 0 | DV12: 0 | DW12: 0 | DX12: 0 | DY12: 0 | DZ12: 0 | EA12: 0 | EB12: 0 | EC12: 0 | ED12: 0 | EE12: 0 | EG12: 0 | EH12: 0 | EI12: 9 | EJ12: 0 | EK12: 0 | EL12: 6 | EM12: 2 | EN12: 17 | EO12: 16 | EP12: 1 | EQ12: 0 | ER12: 17 | ES12: 0 | ET12: 3 | EU12: 5 | EV12: 5 | EW12: 3 | EX12: 0 | EY12: 1 | EZ12: 17 | FA12: 0 | FB12: 0 | FC12: 0 | FD12: 0 | FE12: 17 | FF12: 0 | FG12: 6 | FH12: 4 | FI12: 5 | FJ12: 0 | FK12: 2 | FL12: 17 | FM12: 4 | FN12: 17 | FO12: 17 | FP12: 17 | FQ12: 0 | FR12: 0 | FS12: 8 | FT12: 0 | FU12: 0 | FV12: 0 | FW12: 0 | FX12: 17 | FY12: 3 | FZ12: Forensic Interview | GA12: 17 | GB12: 532 | GC12: 9 | GD12: 13 | GE12: 1 | GF12: 5 | GG12: 14 | GH12: 2 | GI12: 2 | GJ12: 2 | GK12: 2
A13: SASP05_2022_LA_8339 | B13: 8339 | C13: LA8339 | D13: SASP | E13: SASP_05 | F13: ANNUAL | G13: 44944 | H13: 2022 | I13: Sexual Trauma Awareness & Response | J13: 2021-KF-01-6664 | P13: SEXUAL ASSAULT PROGRAM | Q13: n/a | R13: NO | S13: NO | T13: Morgan | U13: P | V13: Lamandre | W13: Sexual Trauma Awareness & Response | X13: 5615 Corporate Blvd. STE. 200 | Y13: Baton Rouge | Z13: LA | AA13: 70808 | AB13: 225-615-7093 | AC13: 225-615-7236 | AD13: morgan.lamandre@star.ngo | AE13: NO | AG13: 7 | AL13: SASP funds have also allowed STAR to purchase equipment and supplies to provide alternative modalities in therapy such as play therapy and other expressive forms of therapy. | AN13: Some feedback received about the counselor paid with SASP funds: "You were the first person I wanted to tell this to (how she successfully navigated conflict with her family of origin). I was so proud of myself. This says something about who you are as a therapist...like you're badass. I have been looking for years for a therapist who could help me and nobody has ever measured up. From the bottom of my heart, truly, thank you for helping me." Another client also said this: "My last therapist didn't have the knowledge to be working with a case like mine. She wasn't the therapist I needed, but you are." Another client said this: "Girl, I just now realized how much better I am with my coping and boundaries because of you. If this were a paid thing I would pay you extra because you are MAGIC." These are just a small sampling of feedback provided to about our SASP counselor. | AP13: n/a | AQ13: 0 | AR13: 0 | AS13: 1 | AT13: 1 | AU13: 0 | AV13: 0 | AW13: NO | AX13: 0 | AY13: 0 | BB13: 0 | BD13: 0 | BG13: 0 | BI13: 0 | BL13: 0 | BN13: 0 | BQ13: 0 | BS13: 0 | BV13: 0 | BX13: 0 | CA13: 0 | CC13: 0 | CF13: 0 | CH13: 0 | CK13: 0 | CM13: 0 | CP13: 0 | CS13: 0 | CV13: 0 | CX13: YES | CY13: 1 | CZ13: 0 | DA13: 0 | DB13: 1 | DC13: 0 | DD13: 0 | DE13: 0.1 | DF13: 0 | DG13: 0 | DH13: 0 | DJ13: 0 | DK13: 1.1 | DL13: 55 | DM13: 0 | DN13: 55 | DO13: 0 | DP13: 0 | DQ13: 0 | DR13: 0 | DS13: 0 | DT13: 0 | DU13: 0 | DV13: 0 | DW13: 0 | DX13: 0 | DY13: 0 | DZ13: 0 | EA13: 0 | EB13: 0 | EC13: 0 | ED13: 0 | EE13: 0 | EG13: 0 | EH13: 0 | EI13: 15 | EJ13: 1 | EK13: 0 | EL13: 38 | EM13: 1 | EN13: 55 | EO13: 48 | EP13: 2 | EQ13: 5 | ER13: 55 | ES13: 0 | ET13: 0 | EU13: 1 | EV13: 20 | EW13: 31 | EX13: 3 | EY13: 0 | EZ13: 55 | FA13: 24 | FB13: 1 | FC13: 0 | FD13: 0 | FE13: 5 | FF13: 4 | FG13: 16 | FH13: 22 | FI13: 8 | FJ13: 3 | FK13: 2 | FL13: 55 | FM13: 0 | FN13: 53 | FO13: 0 | FP13: 0 | FQ13: 0 | FR13: 0 | FS13: 0 | FT13: 0 | FU13: 0 | FV13: 0 | FW13: 0 | FX13: 2 | FY13: 0 | GA13: 0 | GB13: 0 | GC13: 0 | GD13: 0 | GE13: 0 | GF13: 0 | GG13: 0 | GH13: 0 | GI13: 0 | GJ13: 0 | GK13: 0

Sheet Checks
A1: Step 1 - Paste row 1 (containing the variable names) from the Excel raw data file in the row below:
A2: UNIQUE_ID | B2: ID | C2: FORMULAID | D2: PROGRAM | E2: FORM | F2: PERIOD | G2: GI1_DATE | H2: GI2_YEAR | I2: GI3_GRANTEENAME | J2: GI4_SUBGRANT1 | K2: GI4_SUBGRANT2 | L2: GI4_SUBGRANT3 | M2: GI4_SUBGRANT4 | N2: GI4_SUBGRANT5 | O2: GI4_SUBGRANT6 | P2: GI5_ORGTYPE | Q2: GI5_OTHERDESC | R2: GI6_FBO | S2: GI6_COALITION | T2: GI7_FIRSTNAME | U2: GI7_MI | V2: GI7_LASTNAME | W2: GI7_ORGNAME | X2: GI7_ADDRESS | Y2: GI7_CITY | Z2: GI7_STATE | AA2: GI7_ZIP | AB2: GI7_TELEPHONE | AC2: GI7_FAX | AD2: GI7_EMAIL | AE2: GI8_TRIBALPOP | AF2: GI8_TRIBALPOPDESC | AG2: IE1_SRVDPSRVD_SA | AH2: NARR2_RAN_1 | AI2: NARR2_RAN_2 | AJ2: NARR3_FUNDALLOW_1 | AK2: NARR3_FUNDALLOW_2 | AL2: NARR4_EFFECTIVENESS_1 | AM2: NARR4_EFFECTIVENESS_2 | AN2: NARR5_DATA_1 | AO2: NARR5_DATA_2 | AP2: VS_NARRATIVE | AQ2: PA05_SASP_1 | AR2: PA05_SASP_2 | AS2: PA05_SASP_3 | AT2: PA05_SASP_4 | AU2: PA05_SASP_5 | AV2: PA05_SASP_6 | AW2: PROD_FUNDSUSED_YESNO | AX2: PROD_FUNDSUSED_1and0 | AY2: PROD1_BROCHURES1_DEV | AZ2: PROD1_BROCHURES1_TITLE | BA2: PROD1_BROCHURES1_AUD | BB2: PROD1_BROCHURES1_USED | BC2: PROD1_BROCHURES1_LANG | BD2: PROD1_BROCHURES2_DEV | BE2: PROD1_BROCHURES2_TITLE | BF2: PROD1_BROCHURES2_AUD | BG2: PROD1_BROCHURES2_USED | BH2: PROD1_BROCHURES2_LANG | BI2: PROD1_BROCHURES3_DEV | BJ2: PROD1_BROCHURES3_TITLE | BK2: PROD1_BROCHURES3_AUD | BL2: PROD1_BROCHURES3_USED | BM2: PROD1_BROCHURES3_LANG | BN2: PROD1_PROMOMAT1_DEV | BO2: PROD1_PROMOMAT1_TITLE | BP2: PROD1_PROMOMAT1_AUD | BQ2: PROD1_PROMOMAT1_USED | BR2: PROD1_PROMOMAT1_LANG | BS2: PROD1_PROMOMAT2_DEV | BT2: PROD1_PROMOMAT2_TITLE | BU2: PROD1_PROMOMAT2_AUD | BV2: PROD1_PROMOMAT2_USED | BW2: PROD1_PROMOMAT2_LANG | BX2: PROD1_PROMOMAT3_DEV | BY2: PROD1_PROMOMAT3_TITLE | BZ2: PROD1_PROMOMAT3_AUD | CA2: PROD1_PROMOMAT3_USED | CB2: PROD1_PROMOMAT3_LANG | CC2: PROD1_WEBSITE1_DEV | CD2: PROD1_WEBSITE1_TITLE | CE2: PROD1_WEBSITE1_AUD | CF2: PROD1_WEBSITE1_USED | CG2: PROD1_WEBSITE1_LANG | CH2: PROD1_WEBSITE2_DEV | CI2: PROD1_WEBSITE2_TITLE | CJ2: PROD1_WEBSITE2_AUD | CK2: PROD1_WEBSITE2_USED | CL2: PROD1_WEBSITE2_LANG | CM2: PROD1_WEBSITE3_DEV | CN2: PROD1_WEBSITE3_TITLE | CO2: PROD1_WEBSITE3_AUD | CP2: PROD1_WEBSITE3_USED | CQ2: PROD1_WEBSITE3_LANG | CR2: PROD1_OTHERDESC | CS2: PROD1_OTHER1_DEV | CT2: PROD1_OTHER1_TITLE | CU2: PROD1_OTHER1_AUD | CV2: PROD1_OTHER1_USED | CW2: PROD1_OTHER1_LANG | CX2: ST_FUNDSUSED_YESNO | CY2: ST_FUNDSUSED_1and0 | CZ2: ST1_ADMIN | DA2: ST1_CHILDADV | DB2: ST1_COUNSELOR | DC2: ST1_LEGALADV | DD2: ST1_OUTREACH | DE2: ST1_PRGMCOORD | DF2: ST1_SUPPSTAFF | DG2: ST1_TRANSLATOR | DH2: ST1_VICADV | DI2: ST1_OTHERDESC | DJ2: ST1_OTHER | DK2: ST1_TOTAL | DL2: VS1_SRVD_SA | DM2: VS1_PSRVD_SA | DN2: VS1_SRVDPSRVD_SA | DO2: VS1_NOTSRVD_SA | DP2: VS4_CONFLICT | DQ2: VS4_STATREQ | DR2: VS4_HOURS | DS2: VS4_CULTURALSRV | DT2: VS4_LANGUAGE | DU2: VS4_DEAF | DV2: VS4_DISABILITY | DW2: VS4_CHILDCARE | DX2: VS4_CAPACITY | DY2: VS4_RULES | DZ2: VS4_RESOURCES | EA2: VS4_MH | EB2: VS4_SUBABUSE | EC2: VS4_NOTAPPROP | ED2: VS4_TRANSPORT | EE2: VS4_OTHER | EF2: VS4_OTHERDESC | EG2: VS5_RACE_AMERIND | EH2: VS5_RACE_ASIAN | EI2: VS5_RACE_BLACK | EJ2: VS5_RACE_HISPANIC | EK2: VS5_RACE_PACIFIC | EL2: VS5_RACE_WHITE | EM2: VS5_RACE_UNKNOWN | EN2: VS5_TOTAL_RACE | EO2: VS5_GEN_FEMALE | EP2: VS5_GEN_MALE | EQ2: VS5_GEN_UNKNOWN | ER2: VS5_TOTAL_GEN | ES2: VS5_AGE_A0TO6 | ET2: VS5_AGE_A7TO12 | EU2: VS5_AGE_B13TO17 | EV2: VS5_AGE_C18TO24 | EW2: VS5_AGE_D25TO59 | EX2: VS5_AGE_E60PLUS | EY2: VS5_AGE_UNKNOWN | EZ2: VS5_TOTAL_AGE | FA2: VS5_OTHER_DISABILITY | FB2: VS5_OTHER_DEAF | FC2: VS5_OTHER_LEP | FD2: VS5_OTHER_IMM | FE2: VS5_OTHER_RURAL | FF2: VS6_SA_SPOUSE | FG2: VS6_SA_FAMILY | FH2: VS6_SA_ACQUAINT | FI2: VS6_SA_DATING | FJ2: VS6_SA_STRANGER | FK2: VS6_SA_UNKNOWN | FL2: VS6_TOTAL_SA | FM2: VS7_VIC_CIVLEGALADV | FN2: VS7_VIC_COUNSEL | FO2: VS7_VIC_CRIMJUSTADV | FP2: VS7_VIC_CRISISINT | FQ2: VS7_VIC_EMPLOYMENT | FR2: VS7_VIC_FINANCIAL | FS2: VS7_VIC_HOSPRESP | FT2: VS7_VIC_JOBTRAIN | FU2: VS7_VIC_LANGUAGE | FV2: VS7_VIC_MATERIALASSIST | FW2: VS7_VIC_TRANSPORT | FX2: VS7_VIC_VICADV | FY2: VS7_VIC_OTHER | FZ2: VS7_OTHERDESC | GA2: VS8_HOTLINE_VIC | GB2: VS8_HOTLINE_TOTAL | GC2: VS8_WALKIN_VIC | GD2: VS8_WALKIN_TOTAL | GE2: VS8_WEB_VIC | GF2: VS8_WEB_TOTAL | GG2: VS9_NOTIFICATION | GH2: VS10_REQ_TEMP_SA | GI2: VS10_REQ_FINAL_SA | GJ2: VS10_GRNT_TEMP_SA | GK2: VS10_GRNT_FINAL_SA
A3: UNIQUE_ID | B3: ID | C3: FORMULAID | D3: PROGRAM | E3: FORM | F3: PERIOD | G3: GI1_DATE | H3: GI2_YEAR | I3: GI3_GRANTEENAME | J3: GI4_SUBGRANT1 | K3: GI4_SUBGRANT2 | L3: GI4_SUBGRANT3 | M3: GI4_SUBGRANT4 | N3: GI4_SUBGRANT5 | O3: GI4_SUBGRANT6 | P3: GI5_ORGTYPE | Q3: GI5_OTHERDESC | R3: GI6_FBO | S3: GI6_COALITION | T3: GI7_FIRSTNAME | U3: GI7_MI | V3: GI7_LASTNAME | W3: GI7_ORGNAME | X3: GI7_ADDRESS | Y3: GI7_CITY | Z3: GI7_STATE | AA3: GI7_ZIP | AB3: GI7_TELEPHONE | AC3: GI7_FAX | AD3: GI7_EMAIL | AE3: GI8_TRIBALPOP | AF3: GI8_TRIBALPOPDESC | AG3: IE1_SRVDPSRVD_SA | AH3: NARR2_RAN_1 | AI3: NARR2_RAN_2 | AJ3: NARR3_FUNDALLOW_1 | AK3: NARR3_FUNDALLOW_2 | AL3: NARR4_EFFECTIVENESS_1 | AM3: NARR4_EFFECTIVENESS_2 | AN3: NARR5_DATA_1 | AO3: NARR5_DATA_2 | AP3: VS_NARRATIVE | AQ3: PA05_SASP_1 | AR3: PA05_SASP_2 | AS3: PA05_SASP_3 | AT3: PA05_SASP_4 | AU3: PA05_SASP_5 | AV3: PA05_SASP_6 | AW3: PROD_FUNDSUSED_YESNO | AX3: PROD_FUNDSUSED_1and0 | AY3: PROD1_BROCHURES1_DEV | AZ3: PROD1_BROCHURES1_TITLE | BA3: PROD1_BROCHURES1_AUD | BB3: PROD1_BROCHURES1_USED | BC3: PROD1_BROCHURES1_LANG | BD3: PROD1_BROCHURES2_DEV | BE3: PROD1_BROCHURES2_TITLE | BF3: PROD1_BROCHURES2_AUD | BG3: PROD1_BROCHURES2_USED | BH3: PROD1_BROCHURES2_LANG | BI3: PROD1_BROCHURES3_DEV | BJ3: PROD1_BROCHURES3_TITLE | BK3: PROD1_BROCHURES3_AUD | BL3: PROD1_BROCHURES3_USED | BM3: PROD1_BROCHURES3_LANG | BN3: PROD1_PROMOMAT1_DEV | BO3: PROD1_PROMOMAT1_TITLE | BP3: PROD1_PROMOMAT1_AUD | BQ3: PROD1_PROMOMAT1_USED | BR3: PROD1_PROMOMAT1_LANG | BS3: PROD1_PROMOMAT2_DEV | BT3: PROD1_PROMOMAT2_TITLE | BU3: PROD1_PROMOMAT2_AUD | BV3: PROD1_PROMOMAT2_USED | BW3: PROD1_PROMOMAT2_LANG | BX3: PROD1_PROMOMAT3_DEV | BY3: PROD1_PROMOMAT3_TITLE | BZ3: PROD1_PROMOMAT3_AUD | CA3: PROD1_PROMOMAT3_USED | CB3: PROD1_PROMOMAT3_LANG | CC3: PROD1_WEBSITE1_DEV | CD3: PROD1_WEBSITE1_TITLE | CE3: PROD1_WEBSITE1_AUD | CF3: PROD1_WEBSITE1_USED | CG3: PROD1_WEBSITE1_LANG | CH3: PROD1_WEBSITE2_DEV | CI3: PROD1_WEBSITE2_TITLE | CJ3: PROD1_WEBSITE2_AUD | CK3: PROD1_WEBSITE2_USED | CL3: PROD1_WEBSITE2_LANG | CM3: PROD1_WEBSITE3_DEV | CN3: PROD1_WEBSITE3_TITLE | CO3: PROD1_WEBSITE3_AUD | CP3: PROD1_WEBSITE3_USED | CQ3: PROD1_WEBSITE3_LANG | CR3: PROD1_OTHERDESC | CS3: PROD1_OTHER1_DEV | CT3: PROD1_OTHER1_TITLE | CU3: PROD1_OTHER1_AUD | CV3: PROD1_OTHER1_USED | CW3: PROD1_OTHER1_LANG | CX3: ST_FUNDSUSED_YESNO | CY3: ST_FUNDSUSED_1and0 | CZ3: ST1_ADMIN | DA3: ST1_CHILDADV | DB3: ST1_COUNSELOR | DC3: ST1_LEGALADV | DD3: ST1_OUTREACH | DE3: ST1_PRGMCOORD | DF3: ST1_SUPPSTAFF | DG3: ST1_TRANSLATOR | DH3: ST1_VICADV | DI3: ST1_OTHERDESC | DJ3: ST1_OTHER | DK3: ST1_TOTAL | DL3: VS1_SRVD_SA | DM3: VS1_PSRVD_SA | DN3: VS1_SRVDPSRVD_SA | DO3: VS1_NOTSRVD_SA | DP3: VS4_CONFLICT | DQ3: VS4_STATREQ | DR3: VS4_HOURS | DS3: VS4_CULTURALSRV | DT3: VS4_LANGUAGE | DU3: VS4_DEAF | DV3: VS4_DISABILITY | DW3: VS4_CHILDCARE | DX3: VS4_CAPACITY | DY3: VS4_RULES | DZ3: VS4_RESOURCES | EA3: VS4_MH | EB3: VS4_SUBABUSE | EC3: VS4_NOTAPPROP | ED3: VS4_TRANSPORT | EE3: VS4_OTHER | EF3: VS4_OTHERDESC | EG3: VS5_RACE_AMERIND | EH3: VS5_RACE_ASIAN | EI3: VS5_RACE_BLACK | EJ3: VS5_RACE_HISPANIC | EK3: VS5_RACE_PACIFIC | EL3: VS5_RACE_WHITE | EM3: VS5_RACE_UNKNOWN | EN3: VS5_TOTAL_RACE | EO3: VS5_GEN_FEMALE | EP3: VS5_GEN_MALE | EQ3: VS5_GEN_UNKNOWN | ER3: VS5_TOTAL_GEN | ES3: VS5_AGE_A0TO6 | ET3: VS5_AGE_A7TO12 | EU3: VS5_AGE_B13TO17 | EV3: VS5_AGE_C18TO24 | EW3: VS5_AGE_D25TO59 | EX3: VS5_AGE_E60PLUS | EY3: VS5_AGE_UNKNOWN | EZ3: VS5_TOTAL_AGE | FA3: VS5_OTHER_DISABILITY | FB3: VS5_OTHER_DEAF | FC3: VS5_OTHER_LEP | FD3: VS5_OTHER_IMM | FE3: VS5_OTHER_RURAL | FF3: VS6_SA_SPOUSE | FG3: VS6_SA_FAMILY | FH3: VS6_SA_ACQUAINT | FI3: VS6_SA_DATING | FJ3: VS6_SA_STRANGER | FK3: VS6_SA_UNKNOWN | FL3: VS6_TOTAL_SA | FM3: VS7_VIC_CIVLEGALADV | FN3: VS7_VIC_COUNSEL | FO3: VS7_VIC_CRIMJUSTADV | FP3: VS7_VIC_CRISISINT | FQ3: VS7_VIC_EMPLOYMENT | FR3: VS7_VIC_FINANCIAL | FS3: VS7_VIC_HOSPRESP | FT3: VS7_VIC_JOBTRAIN | FU3: VS7_VIC_LANGUAGE | FV3: VS7_VIC_MATERIALASSIST | FW3: VS7_VIC_TRANSPORT | FX3: VS7_VIC_VICADV | FY3: VS7_VIC_OTHER | FZ3: VS7_OTHERDESC | GA3: VS8_HOTLINE_VIC | GB3: VS8_HOTLINE_TOTAL | GC3: VS8_WALKIN_VIC | GD3: VS8_WALKIN_TOTAL | GE3: VS8_WEB_VIC | GF3: VS8_WEB_TOTAL | GG3: VS9_NOTIFICATION | GH3: VS10_REQ_TEMP_SA | GI3: VS10_REQ_FINAL_SA | GJ3: VS10_GRNT_TEMP_SA | GK3: VS10_GRNT_FINAL_SA
A4: =A2=A3 -> TRUE | B4: =B2=B3 -> TRUE | C4: =C2=C3 -> TRUE | D4: =D2=D3 -> TRUE | E4: =E2=E3 -> TRUE | F4: =F2=F3 -> TRUE | G4: =G2=G3 -> TRUE | H4: =H2=H3 -> TRUE | ... GK4: =GK2=GK3 -> TRUE
A5: NOTE: Step 1 checks whether the order of the variables in the current Excel data set and the Dashboard template are aligned (the variable names in the DATA tab header and the original Excel file are not identical but the order of the variables is aligned based on the variable names in row 3 above). All checks in row 4 should say TRUE after the data is pasted.
A8: Step 2 - Paste the Descriptive Statistics table for the state in cell A9 below: | E8: Checks calculations in workbook against Descriptives | M8: Checks Variable Alignment for the Descriptives
A9: Descriptive Statistics | M9: If there are any FALSE warnings after the descriptives were pasted in A9, the order of the variables has changed and the checks will not be comparing the correct numbers.
B10: N | C10: Sum | E10: Partial sums, if needed: | G10: From workbook: | I10: Check:
A11: ID | B11: 12 | C11: 100026 | G11: =COUNT(DATA[ID]) -> 12 | I11: =B11=G11 -> TRUE | M11: ID | N11: =A11=M11 -> TRUE
A12: GI1_DATE | B12: 12 | C12: 1928985 23:59:59 | M12: GI1_DATE | N12: =A12=M12 -> TRUE
A13: GI2_YEAR | B13: 12 | C13: 24264 | M13: GI2_YEAR | N13: =A13=M13 -> TRUE
A14: ST_FUNDSUSED_1and0 | B14: 12 | C14: 12 | G14: =SUM(DATA[ST_FUNDSUSED_1and0]) -> 12 | I14: =C14=G14 -> TRUE | M14: ST_FUNDSUSED_1and0 | N14: =A14=M14 -> TRUE
A15: ST1_ADMIN | B15: 12 | C15: 1.52 | G15: =Staff!D8 -> 3.21 | I15: =C15=G15 -> FALSE | M15: ST1_ADMIN | N15: =A15=M15 -> TRUE
A16: ST1_CHILDADV | B16: 12 | C16: 0 | G16: =Staff!D9 -> 2.62 | I16: =C16=G16 -> FALSE | M16: ST1_CHILDADV | N16: =A16=M16 -> TRUE
A17: ST1_COUNSELOR | B17: 12 | C17: 2.62 | G17: =Staff!D10 -> 1.52 | I17: =C17=G17 -> FALSE | M17: ST1_COUNSELOR | N17: =A17=M17 -> TRUE
A18: ST1_LEGALADV | B18: 12 | C18: 0 | G18: =Staff!D11 -> 1.37 | I18: =C18=G18 -> FALSE | M18: ST1_LEGALADV | N18: =A18=M18 -> TRUE
A19: ST1_OUTREACH | B19: 12 | C19: 0.67 | G19: =Staff!D13 -> 0.6 | I19: =C19=G19 -> FALSE | M19: ST1_OUTREACH | N19: =A19=M19 -> TRUE
A20: ST1_PRGMCOORD | B20: 12 | C20: 1.37 | G20: =Staff!D14 -> 0.51 | I20: =C20=G20 -> FALSE | M20: ST1_PRGMCOORD | N20: =A20=M20 -> TRUE
A21: ST1_SUPPSTAFF | B21: 12 | C21: 0.51 | G21: =Staff!D15 -> 0 | I21: =C21=G21 -> FALSE | M21: ST1_SUPPSTAFF | N21: =A21=M21 -> TRUE
A22: ST1_TRANSLATOR | B22: 12 | C22: 0 | G22: =Staff!D16 -> 0 | I22: =C22=G22 -> TRUE | M22: ST1_TRANSLATOR | N22: =A22=M22 -> TRUE
A23: ST1_VICADV | B23: 12 | C23: 3.21 | G23: =Staff!D17 -> 0 | I23: =C23=G23 -> FALSE | M23: ST1_VICADV | N23: =A23=M23 -> TRUE
A24: ST1_OTHER | B24: 12 | C24: 0.6 | G24: =Staff!D12 -> 0.67 | I24: =C24=G24 -> FALSE | M24: ST1_OTHER | N24: =A24=M24 -> TRUE
A25: ST1_TOTAL | B25: 12 | C25: 10.5 | G25: =Staff!D18 -> 10.5 | I25: =C25=G25 -> TRUE | M25: ST1_TOTAL | N25: =A25=M25 -> TRUE
A26: PA05_SASP_1 | B26: 12 | C26: 9 | G26: =SUM(DATA[PROD_FUNDSUSED_1and0]) -> 1 | I26: =C32=G26 -> TRUE | M26: PA05_SASP_1 | N26: =A26=M26 -> TRUE
A27: PA05_SASP_2 | B27: 12 | C27: 9 | E27: Outreach, developed and revised: | M27: PA05_SASP_2 | N27: =A27=M27 -> TRUE
A28: PA05_SASP_3 | B28: 12 | C28: 11 | E28: =C33+C35+C37 -> 2 | G28: ='Informational Materials'!D7 -> 2 | I28: =E28=G28 -> TRUE | M28: PA05_SASP_3 | N28: =A28=M28 -> TRUE
A29: PA05_SASP_4 | B29: 12 | C29: 11 | E29: Outreach, used or distributed: | M29: PA05_SASP_4 | N29: =A29=M29 -> TRUE
A30: PA05_SASP_5 | B30: 12 | C30: 2 | E30: =C34+C36+C38 -> 5000 | G30: ='Informational Materials'!E7 -> 5000 | I30: =E30=G30 -> TRUE | M30: PA05_SASP_5 | N30: =A30=M30 -> TRUE
A31: PA05_SASP_6 | B31: 12 | C31: 1 | M31: PA05_SASP_6 | N31: =A31=M31 -> TRUE
A32: PROD_FUNDSUSED_1and0 | B32: 12 | C32: 1 | M32: PROD_FUNDSUSED_1and0 | N32: =A32=M32 -> TRUE
A33: PROD1_BROCHURES1_DEV | B33: 12 | C33: 1 | E33: Promotional prod, developed and revised: | M33: PROD1_BROCHURES1_DEV | N33: =A33=M33 -> TRUE
A34: PROD1_BROCHURES1_USED | B34: 12 | C34: 5000 | E34: =C39+C41+C43 -> 1 | G34: ='Informational Materials'!D8 -> 1 | I34: =E34=G34 -> TRUE | M34: PROD1_BROCHURES1_USED | N34: =A34=M34 -> TRUE
A35: PROD1_BROCHURES2_DEV | B35: 12 | C35: 1 | E35: Promotional prod, used and distributed: | M35: PROD1_BROCHURES2_DEV | N35: =A35=M35 -> TRUE
A36: PROD1_BROCHURES2_USED | B36: 12 | C36: 0 | E36: =C40+C42+C44 -> 1000 | G36: ='Informational Materials'!E8 -> 1000 | I36: =E36=G36 -> TRUE | M36: PROD1_BROCHURES2_USED | N36: =A36=M36 -> TRUE
A37: PROD1_BROCHURES3_DEV | B37: 12 | C37: 0 | M37: PROD1_BROCHURES3_DEV | N37: =A37=M37 -> TRUE
A38: PROD1_BROCHURES3_USED | B38: 12 | C38: 0 | M38: PROD1_BROCHURES3_USED | N38: =A38=M38 -> TRUE
A39: PROD1_PROMOMAT1_DEV | B39: 12 | C39: 1 | E39: website, developed and revised: | M39: PROD1_PROMOMAT1_DEV | N39: =A39=M39 -> TRUE
A40: PROD1_PROMOMAT1_USED | B40: 12 | C40: 1000 | E40: =C45+C47+C49 -> 0 | G40: ='Informational Materials'!D9 -> 0 | I40: =E40=G40 -> TRUE | M40: PROD1_PROMOMAT1_USED | N40: =A40=M40 -> TRUE
A41: PROD1_PROMOMAT2_DEV | B41: 12 | C41: 0 | E41: website, used and distributed: | M41: PROD1_PROMOMAT2_DEV | N41: =A41=M41 -> TRUE
A42: PROD1_PROMOMAT2_USED | B42: 12 | C42: 0 | E42: =C46+C48+C50 -> 0 | G42: ='Informational Materials'!E9 -> 0 | I42: =E42=G42 -> TRUE | M42: PROD1_PROMOMAT2_USED | N42: =A42=M42 -> TRUE
A43: PROD1_PROMOMAT3_DEV | B43: 12 | C43: 0 | M43: PROD1_PROMOMAT3_DEV | N43: =A43=M43 -> TRUE
A44: PROD1_PROMOMAT3_USED | B44: 12 | C44: 0 | M44: PROD1_PROMOMAT3_USED | N44: =A44=M44 -> TRUE
A45: PROD1_WEBSITE1_DEV | B45: 12 | C45: 0 | G45: ='Informational Materials'!D10 -> 0 | I45: =C51=G45 -> TRUE | M45: PROD1_WEBSITE1_DEV | N45: =A45=M45 -> TRUE
A46: PROD1_WEBSITE1_USED | B46: 12 | C46: 0 | G46: ='Informational Materials'!E10 -> 0 | I46: =C52=G46 -> TRUE | M46: PROD1_WEBSITE1_USED | N46: =A46=M46 -> TRUE
A47: PROD1_WEBSITE2_DEV | B47: 12 | C47: 0 | M47: PROD1_WEBSITE2_DEV | N47: =A47=M47 -> TRUE
A48: PROD1_WEBSITE2_USED | B48: 12 | C48: 0 | M48: PROD1_WEBSITE2_USED | N48: =A48=M48 -> TRUE
A49: PROD1_WEBSITE3_DEV | B49: 12 | C49: 0 | M49: PROD1_WEBSITE3_DEV | N49: =A49=M49 -> TRUE
A50: PROD1_WEBSITE3_USED | B50: 12 | C50: 0 | M50: PROD1_WEBSITE3_USED | N50: =A50=M50 -> TRUE
A51: PROD1_OTHER1_DEV | B51: 12 | C51: 0 | M51: PROD1_OTHER1_DEV | N51: =A51=M51 -> TRUE
A52: PROD1_OTHER1_USED | B52: 12 | C52: 0 | M52: PROD1_OTHER1_USED | N52: =A52=M52 -> TRUE
A53: VS1_SRVD_SA | B53: 12 | C53: 2123 | G53: ='Victim Services'!D10 -> 2123 | I53: =C53=G53 -> TRUE | M53: VS1_SRVD_SA | N53: =A53=M53 -> TRUE
A54: VS1_PSRVD_SA | B54: 12 | C54: 0 | G54: ='Victim Services'!D11 -> 0 | I54: =C54=G54 -> TRUE | M54: VS1_PSRVD_SA | N54: =A54=M54 -> TRUE
A55: VS1_SRVDPSRVD_SA | B55: 12 | C55: 2123 | G55: =SUM(DATA[VS_SRVD_AND_PRT_TOTAL]) -> 2123 | I55: =C55=G55 -> TRUE | M55: VS1_SRVDPSRVD_SA | N55: =A55=M55 -> TRUE
A56: VS1_NOTSRVD_SA | B56: 12 | C56: 7 | G56: ='Victim Services'!D12 -> 7 | I56: =C56=G56 -> TRUE | M56: VS1_NOTSRVD_SA | N56: =A56=M56 -> TRUE
A57: IE1_SRVDPSRVD_SA | B57: 12 | C57: 204 | G57: =SUM(DATA[SECONDARY_SERVED]) -> 204 | I57: =C57=G57 -> TRUE | M57: IE1_SRVDPSRVD_SA | N57: =A57=M57 -> TRUE
A58: VS4_CONFLICT | B58: 12 | C58: 0 | G58: check manually | M58: VS4_CONFLICT | N58: =A58=M58 -> TRUE
A59: VS4_STATREQ | B59: 12 | C59: 0 | M59: VS4_STATREQ | N59: =A59=M59 -> TRUE
A60: VS4_HOURS | B60: 12 | C60: 0 | M60: VS4_HOURS | N60: =A60=M60 -> TRUE
A61: VS4_CULTURALSRV | B61: 12 | C61: 0 | M61: VS4_CULTURALSRV | N61: =A61=M61 -> TRUE
A62: VS4_LANGUAGE | B62: 12 | C62: 0 | M62: VS4_LANGUAGE | N62: =A62=M62 -> TRUE
A63: VS4_DEAF | B63: 12 | C63: 0 | M63: VS4_DEAF | N63: =A63=M63 -> TRUE
A64: VS4_DISABILITY | B64: 12 | C64: 0 | M64: VS4_DISABILITY | N64: =A64=M64 -> TRUE
A65: VS4_CHILDCARE | B65: 12 | C65: 0 | M65: VS4_CHILDCARE | N65: =A65=M65 -> TRUE
A66: VS4_CAPACITY | B66: 12 | C66: 0 | M66: VS4_CAPACITY | N66: =A66=M66 -> TRUE
A67: VS4_RULES | B67: 12 | C67: 0 | M67: VS4_RULES | N67: =A67=M67 -> TRUE
A68: VS4_RESOURCES | B68: 12 | C68: 0 | M68: VS4_RESOURCES | N68: =A68=M68 -> TRUE
A69: VS4_MH | B69: 12 | C69: 0 | M69: VS4_MH | N69: =A69=M69 -> TRUE
A70: VS4_SUBABUSE | B70: 12 | C70: 0 | M70: VS4_SUBABUSE | N70: =A70=M70 -> TRUE
... A73: VS4_OTHER | B73: 12 | C73: 1 | M73: VS4_OTHER | N73: =A73=M73 -> TRUE
A74: VS5_RACE_AMERIND | B74: 12 | C74: 6 | G74: ='Victim Services'!I21 -> 6 | I74: =C74=G74 -> TRUE | M74: VS5_RACE_AMERIND | N74: =A74=M74 -> TRUE
A75: VS5_RACE_ASIAN | B75: 12 | C75: 13 | G75: ='Victim Services'!I22 -> 13 | I75: =C75=G75 -> TRUE | M75: VS5_RACE_ASIAN | N75: =A75=M75 -> TRUE
A76: VS5_RACE_BLACK | B76: 12 | C76: 340 | G76: ='Victim Services'!I23 -> 340 | I76: =C76=G76 -> TRUE | M76: VS5_RACE_BLACK | N76: =A76=M76 -> TRUE
A77: VS5_RACE_HISPANIC | B77: 12 | C77: 1020 | G77: ='Victim Services'!I24 -> 1020 | I77: =C77=G77 -> TRUE | M77: VS5_RACE_HISPANIC | N77: =A77=M77 -> TRUE
A78: VS5_RACE_PACIFIC | B78: 12 | C78: 2 | G78: ='Victim Services'!I25 -> 2 | I78: =C78=G78 -> TRUE | M78: VS5_RACE_PACIFIC | N78: =A78=M78 -> TRUE
A79: VS5_RACE_WHITE | B79: 12 | C79: 620 | G79: ='Victim Services'!I26 -> 620 | I79: =C79=G79 -> TRUE | M79: VS5_RACE_WHITE | N79: =A79=M79 -> TRUE
A80: VS5_RACE_UNKNOWN | B80: 12 | C80: 122 | G80: ='Victim Services'!I27 -> 122 | I80: =C80=G80 -> TRUE | M80: VS5_RACE_UNKNOWN | N80: =A80=M80 -> TRUE
A81: VS5_TOTAL_RACE | B81: 12 | C81: 2123 | M81: VS5_TOTAL_RACE | N81: =A81=M81 -> TRUE
A82: VS5_GEN_FEMALE | B82: 12 | C82: 902 | G82: ='Victim Services'!I29 -> 902 | I82: =C82=G82 -> TRUE | M82: VS5_GEN_FEMALE | N82: =A82=M82 -> TRUE
A83: VS5_GEN_MALE | B83: 12 | C83: 125 | G83: ='Victim Services'!I30 -> 125 | I83: =C83=G83 -> TRUE | M83: VS5_GEN_MALE | N83: =A83=M83 -> TRUE
A84: VS5_GEN_UNKNOWN | B84: 12 | C84: 1096 | G84: ='Victim Services'!I31 -> 1096 | I84: =C84=G84 -> TRUE | M84: VS5_GEN_UNKNOWN | N84: =A84=M84 -> TRUE
A85: VS5_TOTAL_GEN | B85: 12 | C85: 2123 | M85: VS5_TOTAL_GEN | N85: =A85=M85 -> TRUE
A86: VS5_AGE_A0TO6 | B86: 12 | C86: 58 | G86: ='Victim Services'!I33 -> 58 | I86: =C86=G86 -> TRUE | M86: VS5_AGE_A0TO6 | N86: =A86=M86 -> TRUE
A87: VS5_AGE_A7TO12 | B87: 12 | C87: 116 | G87: ='Victim Services'!I34 -> 116 | I87: =C87=G87 -> TRUE | M87: VS5_AGE_A7TO12 | N87: =A87=M87 -> TRUE
A88: VS5_AGE_B13TO17 | B88: 12 | C88: 94 | G88: ='Victim Services'!I35 -> 94 | I88: =C88=G88 -> TRUE | M88: VS5_AGE_B13TO17 | N88: =A88=M88 -> TRUE
A89: VS5_AGE_C18TO24 | B89: 12 | C89: 235 | G89: ='Victim Services'!I36 -> 235 | I89: =C89=G89 -> TRUE | M89: VS5_AGE_C18TO24 | N89: =A89=M89 -> TRUE
A90: VS5_AGE_D25TO59 | B90: 12 | C90: 504 | G90: ='Victim Services'!I37 -> 504 | I90: =C90=G90 -> TRUE | M90: VS5_AGE_D25TO59 | N90: =A90=M90 -> TRUE
A91: VS5_AGE_E60PLUS | B91: 12 | C91: 26 | G91: ='Victim Services'!I38 -> 26 | I91: =C91=G91 -> TRUE | M91: VS5_AGE_E60PLUS | N91: =A91=M91 -> TRUE
A92: VS5_AGE_UNKNOWN | B92: 12 | C92: 1090 | G92: ='Victim Services'!I39 -> 1090 | I92: =C92=G92 -> TRUE | M92: VS5_AGE_UNKNOWN | N92: =A92=M92 -> TRUE
A93: VS5_TOTAL_AGE | B93: 12 | C93: 2123 | M93: VS5_TOTAL_AGE | N93: =A93=M93 -> TRUE
A94: VS5_OTHER_DISABILITY | B94: 12 | C94: 184 | M94: VS5_OTHER_DISABILITY | N94: =A94=M94 -> TRUE
A95: VS5_OTHER_DEAF | B95: 12 | C95: 6 | M95: VS5_OTHER_DEAF | N95: =A95=M95 -> TRUE
A96: VS5_OTHER_LEP | B96: 12 | C96: 1031 | M96: VS5_OTHER_LEP | N96: =A96=M96 -> TRUE
A97: VS5_OTHER_IMM | B97: 12 | C97: 5 | M97: VS5_OTHER_IMM | N97: =A97=M97 -> TRUE
A98: VS5_OTHER_RURAL | B98: 12 | C98: 615 | M98: VS5_OTHER_RURAL | N98: =A98=M98 -> TRUE
A99: VS6_SA_SPOUSE | B99: 12 | C99: 194 | G99: ='Victim Services'!I10 -> 194 | I99: =C99=G99 -> TRUE | M99: VS6_SA_SPOUSE | N99: =A99=M99 -> TRUE
A100: VS6_SA_FAMILY | B100: 12 | C100: 427 | G100: ='Victim Services'!I11 -> 427 | I100: =C100=G100 -> TRUE | M100: VS6_SA_FAMILY | N100: =A100=M100 -> TRUE
A101: VS6_SA_ACQUAINT | B101: 12 | C101: 336 | G101: ='Victim Services'!I12 -> 336 | I101: =C101=G101 -> TRUE | M101: VS6_SA_ACQUAINT | N101: =A101=M101 -> TRUE
A102: VS6_SA_DATING | B102: 12 | C102: 51 | G102: ='Victim Services'!I13 -> 51 | I102: =C102=G102 -> TRUE | M102: VS6_SA_DATING | N102: =A102=M102 -> TRUE
A103: VS6_SA_STRANGER | B103: 12 | C103: 122 | G103: ='Victim Services'!I14 -> 122 | I103: =C103=G103 -> TRUE | M103: VS6_SA_STRANGER | N103: =A103=M103 -> TRUE
A104: VS6_SA_UNKNOWN | B104: 12 | C104: 1104 | G104: ='Victim Services'!I15 -> 1104 | I104: =C104=G104 -> TRUE | M104: VS6_SA_UNKNOWN | N104: =A104=M104 -> TRUE
...

Sheet RNS
B1: Reason | C1: Not served | D1: Count | F1: Top 5
B2: Other | C2: RSN_NOT_SRVD_OTHER | D2: =SUM(INDEX(DATA!$DP:$EE,0,MATCH(C2,DATA!$DP$1:$EE$1,0)))+(ROW(C2)*0.001) -> 1.002 | F2: =IF(LARGE($D$2:$D$17,1)<1,"",(INDEX($B$2:$B$17,MATCH(LARGE($D$2:$D$17,1),$D$2:$D$17,0)))) -> Other
B3: Transportation | C3: RSN_NOT_SRVD_TRANSPORT | D3: =SUM(INDEX(DATA!$DP:$EE,0,MATCH(C3,DATA!$DP$1:$EE$1,0)))+(ROW(C3)*0.001) -> 0.003 | F3: =IF(LARGE($D$2:$D$17,2)<1,"",(INDEX($B$2:$B$17,MATCH(LARGE($D$2:$D$17,2),$D$2:$D$17,0))))
B4: Services not appropriate for victim/survivor | C4: RSN_NOT_SRVD_NOT_APPROP | D4: =SUM(INDEX(DATA!$DP:$ECM,0,MATCH(C4,DATA!$DP$1:$EE$1,0)))+(ROW(C4)*0.001) -> 0.004 | F4: =IF(LARGE($D$2:$D$17,3)<1,"",(INDEX($B$2:$B$17,MATCH(LARGE($D$2:$D$17,3),$D$2:$D$17,0))))
B5: Services inappropriate or inadequate for victims/survivors with substance abuse issues | C5: RSN_NOT_SRVD_SBST_ABSE | D5: =SUM(INDEX(DATA!$DP:$EE,0,MATCH(C5,DATA!$DP$1:$EE$1,0)))+(ROW(C5)*0.001) -> 0.005 | F5: =IF(LARGE($D$2:$D$17,4)<1,"",(INDEX($B$2:$B$17,MATCH(LARGE($D$2:$D$17,4),$D$2:$D$17,0))))
B6: Services inappropriate or inadequate for victims/survivors with mental health issues | C6: RSN_NOT_SRVD_MNTL_HLTH | D6: =SUM(INDEX(DATA!$DP:$EE,0,MATCH(C6,DATA!$DP$1:$EE$1,0)))+(ROW(C6)*0.001) -> 0.006 | F6: =IF(LARGE($D$2:$D$17,5)<1,"",(INDEX($B$2:$B$17,MATCH(LARGE($D$2:$D$17,5),$D$2:$D$17,0))))
B7: Program unable to provide service due to limited resources/priority-setting | C7: RSN_NOT_SRVD_LMTD_RESRCE | D7: =SUM(INDEX(DATA!$DP:$EE,0,MATCH(C7,DATA!$DP$1:$EE$1,0)))+(ROW(C7)*0.001) -> 0.007 | F7: =IF(LARGE($D$2:$D$17,6)<1,"",(INDEX($B$2:$B$17,MATCH(LARGE($D$2:$D$17,6),$D$2:$D$17,0))))
B8: Program rules not acceptable to victim/survivor | C8: RSN_NOT_SRVD_RULES | D8: =SUM(INDEX(DATA!$DP:$EE,0,MATCH(C8,DATA!$DP$1:$EE$1,0)))+(ROW(C8)*0.001) -> 0.008 | F8: =IF(LARGE($D$2:$D$17,7)<1,"",(INDEX($B$2:$B$17,MATCH(LARGE($D$2:$D$17,7),$D$2:$D$17,0))))
B9: Program reached capacity | C9: RSN_NOT_SRVD_CAPACITY | D9: =SUM(INDEX(DATA!$DP:$EE,0,MATCH(C9,DATA!$DP$1:$EE$1,0)))+(ROW(C9)*0.001) -> 0.009 | F9: =IF(LARGE($D$2:$D$17,8)<1,"",(INDEX($B$2:$B$17,MATCH(LARGE($D$2:$D$17,8),$D$2:$D$17,0))))
B10: Lack of childcare | C10: RSN_NOT_SRVD_CHILDCARE | D10: =SUM(INDEX(DATA!$DP:$EE,0,MATCH(C10,DATA!$DP$1:$EE$1,0)))+(ROW(C10)*0.001) -> 0.01 | F10: =IF(LARGE($D$2:$D$17,9)<1,"",(INDEX($B$2:$B$17,MATCH(LARGE($D$2:$D$17,9),$D$2:$D$17,0))))
B11: Insufficient or lack of services for people with disabilities | C11: RSN_NOT_SRVD_DISAB | D11: =SUM(INDEX(DATA!$DP:$EE,0,MATCH(C11,DATA!$DP$1:$EE$1,0)))+(ROW(C11)*0.001) -> 0.011 | F11: =IF(LARGE($D$2:$D$17,10)<1,"",(INDEX($B$2:$B$17,MATCH(LARGE($D$2:$D$17,10),$D$2:$D$17,0))))
B12: Insufficient or lack of services for victims/survivors who are D/deaf or hard of hearing | C12: RSN_NOT_SRVD_DEAF | D12: =SUM(INDEX(DATA!$DP:$EE,0,MATCH(C12,DATA!$DP$1:$EE$1,0)))+(ROW(C12)*0.001) -> 0.012 | F12: =IF(LARGE($D$2:$D$17,11)<1,"",(INDEX($B$2:$B$17,MATCH(LARGE($D$2:$D$17,11),$D$2:$D$17,0))))
B13: Insufficient of lack of language capacity | C13: RSN_NOT_SRVD_LANGUAGE | D13: =SUM(INDEX(DATA!$DP:$EE,0,MATCH(C13,DATA!$DP$1:$EE$1,0)))+(ROW(C13)*0.001) -> 0.013 | F13: =IF(LARGE($D$2:$D$17,12)<1,"",(INDEX($B$2:$B$17,MATCH(LARGE($D$2:$D$17,12),$D$2:$D$17,0))))
B14: Insufficient or lack of culturally appropriate services | C14: RSN_NOT_SRVD_CULTURAL | D14: =SUM(INDEX(DATA!$DP:$EE,0,MATCH(C14,DATA!$DP$1:$EE$1,0)))+(ROW(C14)*0.001) -> 0.014 | F14: =IF(LARGE($D$2:$D$17,13)<1,"",(INDEX($B$2:$B$17,MATCH(LARGE($D$2:$D$17,13),$D$2:$D$17,0))))
B15: Hours of operation | C15: RSN_NOT_SRVD_HOURS | D15: =SUM(INDEX(DATA!$DP:$EE,0,MATCH(C15,DATA!$DP$1:$EE$1,0)))+(ROW(C15)*0.001) -> 0.015 | F15: =IF(LARGE($D$2:$D$17,14)<1,"",(INDEX($B$2:$B$17,MATCH(LARGE($D$2:$D$17,14),$D$2:$D$17,0))))
B16: Did not meet statutory requirements | C16: RSN_NOT_SRVD_STATUTORY | D16: =SUM(INDEX(DATA!$DP:$EE,0,MATCH(C16,DATA!$DP$1:$EE$1,0)))+(ROW(C16)*0.001) -> 0.016 | F16: =IF(LARGE($D$2:$D$17,15)<1,"",(INDEX($B$2:$B$17,MATCH(LARGE($D$2:$D$17,15),$D$2:$D$17,0))))
B17: Conflict of interest | C17: RSN_NOT_SRVD_CONFLICT | D17: =SUM(INDEX(DATA!$DP:$EE,0,MATCH(C17,DATA!$DP$1:$EE$1,0)))+(ROW(C17)*0.001) -> 0.017 | F17: =IF(LARGE($D$2:$D$17,16)<1,"",(INDEX($B$2:$B$17,MATCH(LARGE($D$2:$D$17,16),$D$2:$D$17,0))))

Sheet Highlights
A1: ="State Highlights - " &DATA!H2&" SASP Administrators Report" -> State Highlights - 2022 SASP Administrators Report
A2: LOUISIANA
B4: ="- "&COUNT(DATA[ID])&" total subgrantees" -> - 12 total subgrantees
B5: ="- "&Staff!D18&" total staff FTEs" -> - 10.5 total staff FTEs
B6: ="- "&TEXT('Victim Services'!D10+'Victim Services'!D11, "###,###")&" total victims receiving services" -> - 2,123 total victims receiving services
B7: ="- "&TEXT('Victim Services'!E39, "###,###")&" total hotline calls received" -> - 3,942 total hotline calls received
B8: ="- "&TEXT(SUM(DATA[OUTREACH_NUM_ACTIVITIES]), "###,###")&" total notification/outreach services were provided to victims" -> - 521 total notification/outreach services were provided to victims
B12: Data Presentation and Interpretation
B13: ="This data dashboard is based on data submitted by the SASP Formula State Administrator and reflects activities supported by SASP Formula subgrant awards during the "&DATA!H2&" calendar year." -> This data dashboard is based on data submitted by the SASP Formula State Administrator and reflects activities supported by SASP Formula subgrant awards during the 2022 calendar year.
B14: SASP Formula subgrantees fill out progress reporting forms on an annual basis and submit those annual reports to the SASP Administrator in their respective state or territory for review. The SASP Administrator in each state or territory submits the annual subgrantee reporting forms to the Violence Against Women Act Measuring Effectiveness Initiative (VAWA MEI), a project located at the Muskie School of Public Service at the University of Southern Maine. Under a technical assistance award from the Office on Violence Against Women (OVW), VAWA MEI collects this subgrantee data from SASP Administrators, and then analyzes and compiles the subgrantee data dashboards for each SASP Administrator. While reviewing the data in this dashboard, please consider the following: • Percentages throughout the report may not add to 100 percent due to rounding. • In some cases, due to rounding, <1% is used to indicate that percentages are smaller than 0.5%, but greater than 0%. • In other cases, due to rounding, numbers may appear the same while their percentages are different. • The overall number of victims served represents an unduplicated count; this means that each victim is counted only once by each subgrantee, regardless of the number of times that victim received services during each calendar year. • Victims are reported only once for each type of service received during the calendar year. For example, the same victim might seek legal advocacy twice and seek victim advocacy three times. Subgrantees would report two counts of services provided (one legal advocacy service and one victim advocacy service) and one victim served.

Sheet General Grant Information
A1: ="General Grant Information - " &DATA!H2&" SASP Administrators Report" -> General Grant Information - 2022 SASP Administrators Report
A2: =Highlights!A2 -> LOUISIANA
B4: ="- Information for this report was submitted by "&COUNT(DATA[ID])&" individual subgrantees for the January 1 – December 31, "&DATA!H2&" reporting period." -> - Information for this report was submitted by 12 individual subgrantees for the January 1 – December 31, 2022 reporting period.
B5: ="- "&COUNTIF(DATA[IS_FBO],"YES")&" ("&ROUND(100*COUNTIF(DATA[IS_FBO],"YES")/COUNT(DATA[ID]),1)&"%) subgrantee(s) were faith-based organizations." -> - 0 (0%) subgrantee(s) were faith-based organizations.
B6: ="- "&COUNTIF(DATA[ADDRESSES_TRIBAL_NATIONS],"YES")&" ("&ROUND(100*COUNTIF(DATA[ADDRESSES_TRIBAL_NATIONS],"YES")/COUNT(DATA[ID]),1)&"%) subgrantees reported using SASP Program funds for projects that specifically addressed tribal populations." -> - 0 (0%) subgrantees reported using SASP Program funds for projects that specifically addressed tribal populations.
B7: ="- The following is a complete list of the types of funded organizations:" -> - The following is a complete list of the types of funded organizations:
C9: Type of funded organization | D9: Subgrantees reporting
D10: Number | E10: Percent
C11: Sexual assault program | D11: =COUNTIF(DATA[TYPE_OF_ORGANIZATION],"SEXUAL ASSAULT PROGRAM") -> 6 | E11: =IF(SUM($D$11:$D$16)=0,"N/A",IF(AND(D11/SUM($D$11:$D$16)<0.005,D11/SUM($D$11:$D$16)>0),"<1%",D11/SUM($D$11:$D$16))) -> 0.5
C12: Dual program (sexual assault and domestic violence) | D12: =COUNTIF(DATA[TYPE_OF_ORGANIZATION],"DUAL PROGRAM") -> 5 | E12: =IF(SUM($D$11:$D$16)=0,"N/A",IF(AND(D12/SUM($D$11:$D$16)<0.005,D12/SUM($D$11:$D$16)>0),"<1%",D12/SUM($D$11:$D$16))) -> 0.41666667
C13: Sexual assault/dual coaliton | D13: =COUNTIF(DATA[TYPE_OF_ORGANIZATION],"SEXUAL ASSULT/DUAL COALITION") -> 1 | E13: =IF(SUM($D$11:$D$16)=0,"N/A",IF(AND(D13/SUM($D$11:$D$16)<0.005,D13/SUM($D$11:$D$16)>0),"<1%",D13/SUM($D$11:$D$16))) -> 0.083333333
C14: Community-based organization | D14: =COUNTIF(DATA[TYPE_OF_ORGANIZATION],"Community-based Organization") -> 0 | E14: =IF(SUM($D$11:$D$16)=0,"N/A",IF(AND(D14/SUM($D$11:$D$16)<0.005,D14/SUM($D$11:$D$16)>0),"<1%",D14/SUM($D$11:$D$16))) -> 0
C15: Other | D15: =COUNTIF(DATA[TYPE_OF_ORGANIZATION],"OTHER") -> 0 | E15: =IF(SUM($D$11:$D$16)=0,"N/A",IF(AND(D15/SUM($D$11:$D$16)<0.005,D15/SUM($D$11:$D$16)>0),"<1%",D15/SUM($D$11:$D$16))) -> 0
C16: Tribal sexual assault program | D16: =COUNTIF(DATA[TYPE_OF_ORGANIZATION],"TRIBAL SEXUAL ASSUALT RPOGRAM") -> 0 | E16: =IF(SUM($D$11:$D$16)=0,"N/A",IF(AND(D16/SUM($D$11:$D$16)<0.005,D16/SUM($D$11:$D$16)>0),"<1%",D16/SUM($D$11:$D$16))) -> 0

Sheet Staff
A1: ="Staff - " &DATA!H2&" SASP Administrators Report" -> Staff - 2022 SASP Administrators Report
A2: ='General Grant Information'!A2 -> LOUISIANA
B4: ="- Number of individual subgrantees using SASP Program funds for staff: "&COUNTIF(DATA[funds_staff],"YES")&" ("&ROUND(100*COUNTIF(DATA[funds_staff],"YES")/COUNT(DATA[ID]),1)&"% of all subgrantees reporting)" -> - Number of individual subgrantees using SASP Program funds for staff: 12 (100% of all subgrantees reporting)
B5: ="- The following is a complete list of the types of staff positions funded with SASP Program grant funds:" -> - The following is a complete list of the types of staff positions funded with SASP Program grant funds:
C7: Staff | D7: FTEs | E7: Percent of Total FTEs
C8: Victim advocate | D8: =SUM(DATA[STAFF_FTE_VICTIM_ADVOCATE]) -> 3.21 | E8: =IF($D$18=0,"N/A",IF(AND(D8/SUM($D$8:$D$17)<0.005,D8/SUM($D$8:$D$17)>0),"<1%",D8/SUM($D$8:$D$17))) -> 0.30571429
C9: Counselor | D9: =SUM(DATA[STAFF_FTE_COUNSELOR]) -> 2.62 | E9: =IF($D$18=0,"N/A",IF(AND(D9/SUM($D$8:$D$17)<0.005,D9/SUM($D$8:$D$17)>0),"<1%",D9/SUM($D$8:$D$17))) -> 0.24952381
C10: Administrator | D10: =SUM(DATA[STAFF_FTE_ADMIN]) -> 1.52 | E10: =IF($D$18=0,"N/A",IF(AND(D10/SUM($D$8:$D$17)<0.005,D10/SUM($D$8:$D$17)>0),"<1%",D10/SUM($D$8:$D$17))) -> 0.1447619
C11: Program coordinator | D11: =SUM(DATA[STAFF_FTE_PROGRAM_COORDINATOR]) -> 1.37 | E11: =IF($D$18=0,"N/A",IF(AND(D11/SUM($D$8:$D$17)<0.005,D11/SUM($D$8:$D$17)>0),"<1%",D11/SUM($D$8:$D$17))) -> 0.13047619
C12: Outreach Worker | D12: =SUM(DATA[STAFF_FTE_OUTREACH_WORKER]) -> 0.67 | E12: =IF($D$18=0,"N/A",IF(AND(D12/SUM($D$8:$D$17)<0.005,D12/SUM($D$8:$D$17)>0),"<1%",D12/SUM($D$8:$D$17))) -> 0.063809524
C13: Other | D13: =SUM(DATA[STAFF_FTE_OTHER]) -> 0.6 | E13: =IF($D$18=0,"N/A",IF(AND(D13/SUM($D$8:$D$17)<0.005,D13/SUM($D$8:$D$17)>0),"<1%",D13/SUM($D$8:$D$17))) -> 0.057142857
C14: Support staff | D14: =SUM(DATA[STAFF_FTE_SUPPORT]) -> 0.51 | E14: =IF($D$18=0,"N/A",IF(AND(D14/SUM($D$8:$D$17)<0.005,D14/SUM($D$8:$D$17)>0),"<1%",D14/SUM($D$8:$D$17))) -> 0.048571429
C15: Children's advocate | D15: =SUM(DATA[STAFF_FTE_CHILD_ADVOCATE]) -> 0 | E15: =IF($D$18=0,"N/A",IF(AND(D15/SUM($D$8:$D$17)<0.005,D15/SUM($D$8:$D$17)>0),"<1%",D15/SUM($D$8:$D$17))) -> 0
C16: Legal advocate | D16: =SUM(DATA[STAFF_FTE_LEGAL_ADVOCATE]) -> 0 | E16: =IF($D$18=0,"N/A",IF(AND(D16/SUM($D$8:$D$17)<0.005,D16/SUM($D$8:$D$17)>0),"<1%",D16/SUM($D$8:$D$17))) -> 0
C17: Translator/interpreter | D17: =SUM(DATA[STAFF_FTE_TRANSLATOR]) -> 0 | E17: =IF($D$18=0,"N/A",IF(AND(D17/SUM($D$8:$D$17)<0.005,D17/SUM($D$8:$D$17)>0),"<1%",D17/SUM($D$8:$D$17))) -> 0
C18: Total number of full time equivalent (FTE) staff funded | D18: =SUM($D$8:$D$17) -> 10.5 | E18: =IF($D$18=0,"N/A",D18/SUM($D$8:$D$17)) -> 1

Sheet Informational Materials
A1: ="Informational Materials - " &DATA!H2&" SASP Administrators Report" -> Informational Materials - 2022 SASP Administrators Report
A2: ='General Grant Information'!A2 -> LOUISIANA
B4: ="- Number of individual subgrantees using SASP Program funds for informational materials: "&COUNTIF(DATA[funds_products],"YES")&" ("&ROUND(100*COUNTIF(DATA[funds_products],"YES")/COUNT(DATA[ID]),1)&"% of all subgrantees reporting)" -> - Number of individual subgrantees using SASP Program funds for informational materials: 1 (8.3% of all subgrantees reporting)
C6: Materials | D6: Number developed or revised | E6: Number used or distributed
C7: Outreach materials (brochures, pamphlets, information packets, posters, tv/radio/other media spots, etc.) | D7: =SUM(DATA[PROD_NUM_DEV_BROCHURES_1],DATA[PROD_NUM_DEV_BROCHURES_2],DATA[PROD_NUM_DEV_BROCHURES_3]) -> 2 | E7: =SUM(DATA[PROD_NUM_USED_BROCHURES_1],DATA[PROD_NUM_USED_BROCHURES_2],DATA[PROD_NUM_USED_BROCHURES_3]) -> 5000
C8: Promotional products (wallet cards, key rings, whistles, etc.) | D8: =SUM(DATA[PROD_NUM_DEV_PROMO_PROD_1],DATA[PROD_NUM_DEV_PROMO_PROD_2],DATA[PROD_NUM_DEV_PROMO_PROD_3]) -> 1 | E8: =SUM(DATA[PROD_NUM_USED_PROMO_PROD_1],DATA[PROD_NUM_USED_PROMO_PROD_2],DATA[PROD_NUM_USED_PROMO_PROD_3]) -> 1000
C9: Website (number of page views is indicated in the number used or distributed column) | D9: =SUM(DATA[PROD_NUM_DEV_WEBSITE_1],DATA[PROD_NUM_DEV_WEBSITE_2],DATA[PROD_NUM_DEV_WEBSITE_3]) -> 0 | E9: =SUM(DATA[PROD_NUM_USED_WEBSITE_1],DATA[PROD_NUM_USED_WEBSITE_2],DATA[PROD_NUM_USED_WEBSITE_3]) -> 0
C10: Other | D10: =SUM(DATA[PROD_NUM_DEV_OTHER_1]) -> 0 | E10: =SUM(DATA[PROD_NUM_USED_OTHER_1]) -> 0

Sheet Victim Services
A1: ="Victim Services - "&DATA!H2&" SASP Administrators Report" -> Victim Services - 2022 SASP Administrators Report
A2: ='General Grant Information'!A2 -> LOUISIANA
B4: ="- During the 12-month reporting period, SASP Formula subgrantees provided services to "&TEXT(SUM(DATA[VS_SRVD_AND_PRT_TOTAL]),"###,###")&" victims/survivors of sexual assault." -> - During the 12-month reporting period, SASP Formula subgrantees provided services to 2,123 victims/survivors of sexual assault.
B5: ="- Of the protection orders for which victim services staff provided assisstance, "&SUM(DATA[PO_TEMP_GRANT])&" temporary and "&SUM(DATA[PO_FINAL_GRANT])&" final orders were granted for sexual assault victims/survivors." -> - Of the protection orders for which victim services staff provided assisstance, 7 temporary and 5 final orders were granted for sexual assault victims/survivors.
C7: Victims seeking services who were served, partially served, or not served | H7: Relationship to offender
D8: Total | H8: Relationship to offender | I8: Total
D9: Number | E9: Percent | I9: Number | J9: Percent
C10: Served | D10: =SUM(DATA[VS_SERVD]) -> 2123 | E10: =D10/$D$13 -> 0.99671362 | H10: Current or former spouse or intimate partner | I10: =SUM(DATA[VS_RLTN_SPOUSE]) -> 194 | J10: =I10/$I$16 -> 0.17168142
C11: Partially served | D11: =SUM(DATA[VS_PART_SRV]) -> 0 | E11: =D11/$D$13 -> 0 | H11: Other family or household member | I11: =SUM(DATA[VS_RLTN_OTHR_FAMILY]) -> 427 | J11: =I11/$I$16 -> 0.37787611
C12: Not served | D12: =SUM(DATA[VS_NOT_SRVD]) -> 7 | E12: =D12/$D$13 -> 0.003286385 | H12: Dating relationship | I12: =SUM(DATA[VS_RLTN_DATING_RLTN]) -> 336 | J12: =I12/$I$16 -> 0.29734513
C13: Total seeking services | D13: =SUM(D10:D12) -> 2130 | E13: =D13/$D$13 -> 1 | H13: Acquaintance | I13: =SUM(DATA[VS_RLTN_ACQUAINTANCE]) -> 51 | J13: =I13/$I$16 -> 0.045132743
H14: Stranger | I14: =SUM(DATA[VS_RLTN_STRANGER]) -> 122 | J14: =I14/$I$16 -> 0.1079646
B15: ="- Total number of victims/survivors receiving services: "&TEXT(SUM(DATA[VS_SRVD_AND_PRT_TOTAL]),"##,###")&" ("&ROUND(100*SUM(DATA[VS_SRVD_AND_PRT_TOTAL])/D13,1)&"% of those seeking services)" -> - Total number of victims/survivors receiving services: 2,123 (99.7% of those seeking services) | H15: Unknown | I15: =SUM(DATA[VS_RLTN_UNKNOWN]) -> 1104
B16: ="- Total number of secondary victims/survivors receiving services: "&TEXT(SUM(DATA[SECONDARY_SERVED]),"##,###") -> - Total number of secondary victims/survivors receiving services: 204 | H16: Total (excluding unknown) | I16: =SUM(I10:I14) -> 1130 | J16: =I16/$I$16 -> 1
C18: Type of service received | H18: Demographics of victims/survivors receiving services
C19: Type of service | D19: Number of victims | E19: Percent of those receiving services | H19: Demographics | I19: Number of victims | J19: Percent
C20: Language services | D20: =SUM(DATA[VS_TYPE_LANG_SVCS]) -> 1026 | E20: =D20/($D$10+$D$11) -> 0.48327838 | H20: Race/ethnicity
C21: Counseling/support group | D21: =SUM(DATA[VS_TYPE_COUNSELING]) -> 603 | E21: =D21/($D$10+$D$11) -> 0.28403203 | H21: American Indian and/or Alaska Native | I21: =SUM(DATA[VS_DEMO_RACE_INDIAN]) -> 6 | J21: =IF(SUM($I$21:$I$26)=0,"N/A",IF(AND(I21/SUM($I$21:$I$26)>0,I21/SUM($I$21:$I$25)<0.005),"<1%",I21/SUM($I$21:$I$26))) -> <1%
C22: Victim/survivor advocacy | D22: =SUM(DATA[VS_TYPE_VICTIM_ADVOCACY]) -> 430 | E22: =D22/($D$10+$D$11) -> 0.20254357 | H22: Asian | I22: =SUM(DATA[VS_DEMO_RACE_ASIAN]) -> 13 | J22: =IF(SUM($I$21:$I$26)=0,"N/A",IF(AND(I22/SUM($I$21:$I$26)>0,I22/SUM($I$21:$I$25)<0.005),"<1%",I22/SUM($I$21:$I$26))) -> 0.0064967516
C23: Crisis intervention | D23: =SUM(DATA[VS_TYPE_CRISIS_INTERVNTN]) -> 400 | E23: =D23/($D$10+$D$11) -> 0.18841262 | H23: Black or African American | I23: =SUM(DATA[VS_DEMO_RACE_BLACK]) -> 340 | J23: =IF(SUM($I$21:$I$26)=0,"N/A",IF(AND(I23/SUM($I$21:$I$26)>0,I23/SUM($I$21:$I$25)<0.005),"<1%",I23/SUM($I$21:$I$26))) -> 0.16991504
C24: Hospital/clinic/other medical response | D24: =SUM(DATA[VS_TYPE_HOSPITAL]) -> 289 | E24: =D24/($D$10+$D$11) -> 0.13612812 | H24: Hispanic, Latino, or Spanish origin | I24: =SUM(DATA[VS_DEMO_RACE_LATINO]) -> 1020 | J24: =IF(SUM($I$21:$I$26)=0,"N/A",IF(AND(I24/SUM($I$21:$I$26)>0,I24/SUM($I$21:$I$25)<0.005),"<1%",I24/SUM($I$21:$I$26))) -> 0.50974513
C25: Criminal justice advocacy/court accompaniment | D25: =SUM(DATA[VS_TYPE_CRIM_JUST_ADVOC]) -> 234 | E25: =D25/($D$10+$D$11) -> 0.11022138 | H25: Native Hawaiian and other Pacific Islander | I25: =SUM(DATA[VS_DEMO_RACE_PACIFIC]) -> 2 | J25: =IF(SUM($I$21:$I$26)=0,"N/A",IF(AND(I25/SUM($I$21:$I$26)>0,I25/SUM($I$21:$I$25)<0.005),"<1%",I25/SUM($I$21:$I$26))) -> <1%
C26: Other | D26: =SUM(DATA[VS_TYPE_OTHER]) -> 49 | E26: =D26/($D$10+$D$11) -> 0.023080546 | H26: White | I26: =SUM(DATA[VS_DEMO_RACE_WHITE]) -> 620 | J26: =IF(SUM($I$21:$I$26)=0,"N/A",IF(AND(I26/SUM($I$21:$I$26)>0,I26/SUM($I$21:$I$25)<0.005),"<1%",I26/SUM($I$21:$I$26))) -> 0.30984508
C27: Civil legal advocacy/court accompaniment | D27: =SUM(DATA[VS_TYPE_CIVIL_LGL_ADVOC]) -> 47 | E27: =D27/($D$10+$D$11) -> 0.022138483 | H27: Unknown | I27: =SUM(DATA[VS_DEMO_RACE_UNKNOWN]) -> 122
C28: Material assistance | D28: =SUM(DATA[VS_TYPE_MATERIAL_ASST]) -> 9 | E28: =D28/($D$10+$D$11) -> 0.004239284 | H28: Gender
C29: Transportation | D29: =SUM(DATA[VS_TYPE_TRANSPORTATION]) -> 4 | E29: =D29/($D$10+$D$11) -> 0.0018841262 | H29: Female | I29: =SUM(DATA[VS_DEMO_GNDR_FEMALE]) -> 902 | J29: =IF(SUM($I$29:$I$30)=0,"N/A",IF(AND(I29/SUM($I$29:$I$30)>0,I29/SUM($I$29:$I$30)<0.005),"<1%",I29/SUM($I$29:$I$30))) -> 0.87828627
C30: Employment counseling | D30: =SUM(DATA[VS_TYPE_EMPLOY_CNSL]) -> 0 | E30: =D30/($D$10+$D$11) -> 0 | H30: Male | I30: =SUM(DATA[VS_DEMO_GNDR_MALE]) -> 125 | J30: =IF(SUM($I$29:$I$30)=0,"N/A",IF(AND(I30/SUM($I$29:$I$30)>0,I30/SUM($I$29:$I$30)<0.005),"<1%",I30/SUM($I$29:$I$30))) -> 0.12171373
C31: Financial counseling | D31: =SUM(DATA[VS_TYPE_FINACIAL_CNSL]) -> 0 | E31: =D31/($D$10+$D$11) -> 0 | H31: Unknown | I31: =SUM(DATA[VS_DEMO_GNDR_UNKNOWN]) -> 1096
C32: Job training | D32: =SUM(DATA[VS_TYPE_JOB_TRAINING]) -> 0 | E32: =D32/($D$10+$D$11) -> 0 | H32: Age
H33: 0-6 | I33: =SUM(DATA[VS_DEMO_AGE_0_TO_6]) -> 58 | J33: =IF(SUM($I$33:$I$38)=0,"N/A",IF(AND(I33/SUM($I$33:$I$38)>0,I33/SUM($I$33:$I$38)<0.005),"<1%",I33/SUM($I$33:$I$38))) -> 0.056147144
H34: ="7-12" -> 7-12 | I34: =SUM(DATA[VS_DEMO_AGE_7_TO_12]) -> 116 | J34: =IF(SUM($I$33:$I$38)=0,"N/A",IF(AND(I34/SUM($I$33:$I$38)>0,I34/SUM($I$33:$I$38)<0.005),"<1%",I34/SUM($I$33:$I$38))) -> 0.11229429
C35: Hotline calls/information and referral | H35: 13-17 | I35: =SUM(DATA[VS_DEMO_AGE_13_TO_17]) -> 94 | J35: =IF(SUM($I$33:$I$38)=0,"N/A",IF(AND(I35/SUM($I$33:$I$38)>0,I35/SUM($I$33:$I$38)<0.005),"<1%",I35/SUM($I$33:$I$38))) -> 0.090997096
D36: Number of calls/requests from primary victims | E36: Total number of calls/requests | H36: 18-24 | I36: =SUM(DATA[VS_DEMO_AGE_18_TO_24]) -> 235 | J36: =IF(SUM($I$33:$I$38)=0,"N/A",IF(AND(I36/SUM($I$33:$I$38)>0,I36/SUM($I$33:$I$38)<0.005),"<1%",I36/SUM($I$33:$I$38))) -> 0.22749274
H37: 25-59 | I37: =SUM(DATA[VS_DEMO_AGE_25_TO_59]) -> 504 | J37: =IF(SUM($I$33:$I$38)=0,"N/A",IF(AND(I37/SUM($I$33:$I$38)>0,I37/SUM($I$33:$I$38)<0.005),"<1%",I37/SUM($I$33:$I$38))) -> 0.48789932
H38: 60+ | I38: =SUM(DATA[VS_DEMO_AGE_60_OR_OVER]) -> 26 | J38: =IF(SUM($I$33:$I$38)=0,"N/A",IF(AND(I38/SUM($I$33:$I$38)>0,I38/SUM($I$33:$I$38)<0.005),"<1%",I38/SUM($I$33:$I$38))) -> 0.025169409
C39: Hotline calls (Crisis or information and referral calls received by an agency’s hotline or office telephone) | D39: =SUM(DATA[HOTLINE_CALLS_VICTIMS]) -> 1087 | E39: =SUM(DATA[HOTLINE_CALLS_TOTAL]) -> 3942 | H39: Unknown | I39: =SUM(DATA[VS_DEMO_AGE_UNKNOWN]) -> 1090
C41: Walk-in information and referrals | D41: =SUM(DATA[WALK_IN_INFO_VICTIMS]) -> 49 | E41: =SUM(DATA[WALK_IN_INFO_TOTAL]) -> 74
C42: Web-based information and referrals | D42: =SUM(DATA[WEB_INFO_VICTIMS]) -> 9 | E42: =SUM(DATA[WEB_INFO_TOTAL]) -> 13
C45: Reasons subgrantees reported that victims were not served:
C46: =IF(RNS!F2="","No victim was reported as not served","- "&RNS!F2) -> - Other
C47: =IF(RNS!F3="","","- "&RNS!F3)
C48: =IF(RNS!F4="","","- "&RNS!F4)
C49: =IF(RNS!F5="","","- "&RNS!F5)
C50: =IF(RNS!F6="","","- "&RNS!F6)
C51: =IF(RNS!F7="","","- "&RNS!F7)
C52: =IF(RNS!F8="","","- "&RNS!F8)
C53: =IF(RNS!F9="","","- "&RNS!F9)
C54: =IF(RNS!F10="","","- "&RNS!F10)
C55: =IF(RNS!F11="","","- "&RNS!F11)
C56: =IF(RNS!F12="","","- "&RNS!F12)
C57: =IF(RNS!F13="","","- "&RNS!F13)
C58: =IF(RNS!F14="","","- "&RNS!F14)
... C61: =IF(RNS!F17="","","- "&RNS!F17)
